BEGIN:VCALENDAR
VERSION:2.0
PRODID:-//Midatlantic IRA - ECPv6.15.20//NONSGML v1.0//EN
CALSCALE:GREGORIAN
METHOD:PUBLISH
X-WR-CALNAME:Midatlantic IRA
X-ORIGINAL-URL:https://www.midatlanticira.com
X-WR-CALDESC:Events for Midatlantic IRA
REFRESH-INTERVAL;VALUE=DURATION:PT1H
X-Robots-Tag:noindex
X-PUBLISHED-TTL:PT1H
BEGIN:VTIMEZONE
TZID:America/New_York
BEGIN:DAYLIGHT
TZOFFSETFROM:-0500
TZOFFSETTO:-0400
TZNAME:EDT
DTSTART:20190310T070000
END:DAYLIGHT
BEGIN:STANDARD
TZOFFSETFROM:-0400
TZOFFSETTO:-0500
TZNAME:EST
DTSTART:20191103T060000
END:STANDARD
BEGIN:DAYLIGHT
TZOFFSETFROM:-0500
TZOFFSETTO:-0400
TZNAME:EDT
DTSTART:20200308T070000
END:DAYLIGHT
BEGIN:STANDARD
TZOFFSETFROM:-0400
TZOFFSETTO:-0500
TZNAME:EST
DTSTART:20201101T060000
END:STANDARD
BEGIN:DAYLIGHT
TZOFFSETFROM:-0500
TZOFFSETTO:-0400
TZNAME:EDT
DTSTART:20210314T070000
END:DAYLIGHT
BEGIN:STANDARD
TZOFFSETFROM:-0400
TZOFFSETTO:-0500
TZNAME:EST
DTSTART:20211107T060000
END:STANDARD
END:VTIMEZONE
BEGIN:VEVENT
DTSTART;TZID=America/New_York:20200514T183000
DTEND;TZID=America/New_York:20200514T213000
DTSTAMP:20260423T180338
CREATED:20200511T160014Z
LAST-MODIFIED:20200511T160014Z
UID:321241-1589481000-1589491800@www.midatlanticira.com
SUMMARY:Kansas City Strategies Group - VIRTUAL
DESCRIPTION:Did you know IRAs can borrow money to purchase assets? Real estate investors understand the power of leverage and the sharp ones have been doing this inside their self-directed IRA. Join us and understand the proper techniques to do it right. \nCome to our next Strategies IRA Meeting and let Jack Kiley show you why Self-Directed IRAs might be a great source of investing capital. Whether you have a Self-Directed IRA already…you’re thinking about opening one… or you’re just curious… come and explore these potentially powerful strategies! \nRegister Here: https://us02web.zoom.us/meeting/register/tZwrc-yqpj0rGNWjt3rkHVXHw0jyakBdA_8V
URL:https://www.midatlanticira.com/event/kansas-city-strategies-group-virtual-2/
CATEGORIES:Strategy Groups
END:VEVENT
BEGIN:VEVENT
DTSTART;TZID=America/New_York:20200519T183000
DTEND;TZID=America/New_York:20200519T213000
DTSTAMP:20260423T180338
CREATED:20200511T160345Z
LAST-MODIFIED:20200511T160345Z
UID:321244-1589913000-1589923800@www.midatlanticira.com
SUMMARY:Northern Virginia Strategies Group - Virtual
DESCRIPTION:The Power of Leverage\nDid you know IRAs can borrow money to purchase assets? Real estate investors understand the power of leverage and the sharp ones have been doing this inside their self-directed IRA. Join us and understand the proper techniques to do it right. \nCome to our next Investment Strategies Meeting and let Jack Kiley show you why Self-Directed IRAs might be a great source of investing capital. Whether you have a Self-Directed IRA already…you’re thinking about opening one… or you’re just curious… come and explore these potentially powerful strategies! \nRegister Here: https://us02web.zoom.us/meeting/register/tZYpcO2rrDIsHdzp3xbR3oKWgC6XvkwYjjR8
URL:https://www.midatlanticira.com/event/northern-virginia-strategies-group-virtual-2/
CATEGORIES:Strategy Groups
END:VEVENT
BEGIN:VEVENT
DTSTART;TZID=America/New_York:20200526T183000
DTEND;TZID=America/New_York:20200526T213000
DTSTAMP:20260423T180338
CREATED:20200511T160530Z
LAST-MODIFIED:20200511T160530Z
UID:321246-1590517800-1590528600@www.midatlanticira.com
SUMMARY:Baltimore Strategies Group - Virtual
DESCRIPTION:The Power of Leverage\nDid you know IRAs can borrow money to purchase assets? Real estate investors understand the power of leverage and the sharp ones have been doing this inside their self-directed IRA. Join us and understand the proper techniques to do it right. \nIf you are still sitting on the launching pad\, fueled and ready to go but……your countdown has been halted\, we invite you out Tuesday night to get your rocket lit. This meeting is about action right now. Do not wait any longer. Come hear about the things you can do to make your wealth building dreams come true. \nMidAtlantic IRA\, LLC (https://www.midatlanticira.com/) and The Baltimore REIA (http://www.baltimorereia.com/) invite you to this powerful group of networkers. Don’t miss a great evening of networking. We are not selling at this Meetup\, no books\, no boot-camps\, no CD’s. This is like-minded individuals who want to network to build their real estate business. \nThere is no charge for this meeting if you are a member of the Baltimore REIA\, otherwise there is $19.00 charge. \nRegister Here: https://us02web.zoom.us/meeting/register/tZ0ufuCqqT4rE9xuwySgG3LDIVPyser9qIHu
URL:https://www.midatlanticira.com/event/baltimore-strategies-group-virtual-2/
CATEGORIES:Strategy Groups
END:VEVENT
END:VCALENDAR