BEGIN:VCALENDAR
VERSION:2.0
PRODID:-//Midatlantic IRA - ECPv6.15.20//NONSGML v1.0//EN
CALSCALE:GREGORIAN
METHOD:PUBLISH
X-ORIGINAL-URL:https://www.midatlanticira.com
X-WR-CALDESC:Events for Midatlantic IRA
REFRESH-INTERVAL;VALUE=DURATION:PT1H
X-Robots-Tag:noindex
X-PUBLISHED-TTL:PT1H
BEGIN:VTIMEZONE
TZID:America/New_York
BEGIN:DAYLIGHT
TZOFFSETFROM:-0500
TZOFFSETTO:-0400
TZNAME:EDT
DTSTART:20180311T070000
END:DAYLIGHT
BEGIN:STANDARD
TZOFFSETFROM:-0400
TZOFFSETTO:-0500
TZNAME:EST
DTSTART:20181104T060000
END:STANDARD
BEGIN:DAYLIGHT
TZOFFSETFROM:-0500
TZOFFSETTO:-0400
TZNAME:EDT
DTSTART:20190310T070000
END:DAYLIGHT
BEGIN:STANDARD
TZOFFSETFROM:-0400
TZOFFSETTO:-0500
TZNAME:EST
DTSTART:20191103T060000
END:STANDARD
BEGIN:DAYLIGHT
TZOFFSETFROM:-0500
TZOFFSETTO:-0400
TZNAME:EDT
DTSTART:20200308T070000
END:DAYLIGHT
BEGIN:STANDARD
TZOFFSETFROM:-0400
TZOFFSETTO:-0500
TZNAME:EST
DTSTART:20201101T060000
END:STANDARD
END:VTIMEZONE
BEGIN:VEVENT
DTSTART;TZID=America/New_York:20190924T183000
DTEND;TZID=America/New_York:20190924T213000
DTSTAMP:20260423T164327
CREATED:20190912T160654Z
LAST-MODIFIED:20190912T160654Z
UID:320504-1569349800-1569360600@www.midatlanticira.com
SUMMARY:Other Retirement Plan Options - Baltimore\, MD
DESCRIPTION:
URL:https://www.midatlanticira.com/event/other-retirement-plan-options-baltimore-md/
LOCATION:Ocean Pride Restaurant & Carry out\, 1534 York Road\, Lutherville\, MD\, 21093\, United States
CATEGORIES:Strategy Groups
END:VEVENT
END:VCALENDAR