BEGIN:VCALENDAR
VERSION:2.0
PRODID:-//Midatlantic IRA - ECPv6.15.20//NONSGML v1.0//EN
CALSCALE:GREGORIAN
METHOD:PUBLISH
X-WR-CALNAME:Midatlantic IRA
X-ORIGINAL-URL:https://www.midatlanticira.com
X-WR-CALDESC:Events for Midatlantic IRA
REFRESH-INTERVAL;VALUE=DURATION:PT1H
X-Robots-Tag:noindex
X-PUBLISHED-TTL:PT1H
BEGIN:VTIMEZONE
TZID:America/New_York
BEGIN:DAYLIGHT
TZOFFSETFROM:-0500
TZOFFSETTO:-0400
TZNAME:EDT
DTSTART:20160313T070000
END:DAYLIGHT
BEGIN:STANDARD
TZOFFSETFROM:-0400
TZOFFSETTO:-0500
TZNAME:EST
DTSTART:20161106T060000
END:STANDARD
BEGIN:DAYLIGHT
TZOFFSETFROM:-0500
TZOFFSETTO:-0400
TZNAME:EDT
DTSTART:20170312T070000
END:DAYLIGHT
BEGIN:STANDARD
TZOFFSETFROM:-0400
TZOFFSETTO:-0500
TZNAME:EST
DTSTART:20171105T060000
END:STANDARD
BEGIN:DAYLIGHT
TZOFFSETFROM:-0500
TZOFFSETTO:-0400
TZNAME:EDT
DTSTART:20180311T070000
END:DAYLIGHT
BEGIN:STANDARD
TZOFFSETFROM:-0400
TZOFFSETTO:-0500
TZNAME:EST
DTSTART:20181104T060000
END:STANDARD
END:VTIMEZONE
BEGIN:VEVENT
DTSTART;TZID=America/New_York:20170131T183000
DTEND;TZID=America/New_York:20170131T210000
DTSTAMP:20260426T002952
CREATED:20170123T151227Z
LAST-MODIFIED:20170123T151227Z
UID:319312-1485887400-1485896400@www.midatlanticira.com
SUMMARY:Real Estate Money Meetup - Baltimore
DESCRIPTION:If you don’t have a self-directed IRA\, what advantages are you missing?  If you already have one\, how can you make the most of it?  How about tapping the power of other people’s IRAs? \nCome to our next Strategies IRA Meeting and let Jack Kiley show you the potential power of self-directed IRAs.  This is a tool every investor should know about. \nNOTE: You can still open a self-directed IRA for tax year 2016.  Choose a traditional IRA to reduce last year’s taxable income\, or a Roth IRA for tax-free returns.  Join us and explore your powerful options! \nMidAtlantic IRA and The Baltimore REIA invite you to this powerful group of networkers. Don’t miss a great evening of networking. Remember we are not selling at this Meetup\, no books\, no boot-camps\, no CD’s. This is like minded individuals who want to network to build their real estate business. \nThis month we will focus on how to talk the talk with other people about their IRA’s funding your real estate projects. Yes\, there are rules. Yes\, it can be complex. Yes\, we can get your through it all. There is alot of money available\, do you know to explain the IRA and Real Estate? Come learn to talk the talk if you want to walk the walk. \nThere is no charge for this meeting if you are a member of the Baltimore REIA\, otherwise there is $19.00 charge at the door\, cash only please. You need to buy your own meal. Separate checks are available from the restaurant. \nYour net worth is a reflection of your network. \nRegister today.
URL:https://www.midatlanticira.com/event/real-estate-money-meetup-baltimore-3/
LOCATION:Ocean Pride Restaurant & Carry out\, 1534 York Road\, Lutherville\, MD\, 21093\, United States
CATEGORIES:Strategy Groups
END:VEVENT
END:VCALENDAR