BEGIN:VCALENDAR
VERSION:2.0
PRODID:-//Midatlantic IRA - ECPv6.15.20//NONSGML v1.0//EN
CALSCALE:GREGORIAN
METHOD:PUBLISH
X-ORIGINAL-URL:https://www.midatlanticira.com
X-WR-CALDESC:Events for Midatlantic IRA
REFRESH-INTERVAL;VALUE=DURATION:PT1H
X-Robots-Tag:noindex
X-PUBLISHED-TTL:PT1H
BEGIN:VTIMEZONE
TZID:America/New_York
BEGIN:DAYLIGHT
TZOFFSETFROM:-0500
TZOFFSETTO:-0400
TZNAME:EDT
DTSTART:20190310T070000
END:DAYLIGHT
BEGIN:STANDARD
TZOFFSETFROM:-0400
TZOFFSETTO:-0500
TZNAME:EST
DTSTART:20191103T060000
END:STANDARD
BEGIN:DAYLIGHT
TZOFFSETFROM:-0500
TZOFFSETTO:-0400
TZNAME:EDT
DTSTART:20200308T070000
END:DAYLIGHT
BEGIN:STANDARD
TZOFFSETFROM:-0400
TZOFFSETTO:-0500
TZNAME:EST
DTSTART:20201101T060000
END:STANDARD
BEGIN:DAYLIGHT
TZOFFSETFROM:-0500
TZOFFSETTO:-0400
TZNAME:EDT
DTSTART:20210314T070000
END:DAYLIGHT
BEGIN:STANDARD
TZOFFSETFROM:-0400
TZOFFSETTO:-0500
TZNAME:EST
DTSTART:20211107T060000
END:STANDARD
END:VTIMEZONE
BEGIN:VEVENT
DTSTART;TZID=America/New_York:20200317T183000
DTEND;TZID=America/New_York:20200317T213000
DTSTAMP:20260423T013824
CREATED:20200227T214604Z
LAST-MODIFIED:20200227T214724Z
UID:321050-1584469800-1584480600@www.midatlanticira.com
SUMMARY:Northern Virginia Strategies Group Meeting
DESCRIPTION:Over the past several years\, note investing and private lending have become popular within self-directed accounts. Many investors have been able to earn better returns than stocks and bonds without the volatility of those markets. \nCome join us to learn exactly what notes and private lending is and why they have become a large investment segment in self-directed account. \nWe will discuss some of the basic strategies of these investments and how to employ them in self-directed retirement accounts. \nAlthough we do not charge for this Meetup\, we do ask that you support our friends at Gordon Biersch Brewery Restaurant.
URL:https://www.midatlanticira.com/event/northern-virginia-strategies-group-meeting/
LOCATION:Gordon Biersch Brewery Restaurant\, 7861 Tyson's Corner Center\, McLean\, VA\, 22102\, United States
CATEGORIES:Strategy Groups
END:VEVENT
BEGIN:VEVENT
DTSTART;TZID=America/New_York:20200324T183000
DTEND;TZID=America/New_York:20200324T213000
DTSTAMP:20260423T013824
CREATED:20200227T215250Z
LAST-MODIFIED:20200227T215250Z
UID:321052-1585074600-1585085400@www.midatlanticira.com
SUMMARY:Baltimore Strategies Group Meeting
DESCRIPTION:Over the past several years\, note investing and private lending have become popular within self-directed accounts. Many investors have been able to earn better returns than stocks and bonds without the volatility of those markets. \nCome join us to learn exactly what notes and private lending is and why they have become a large investment segment in self-directed account. \nWe will discuss some of the basic strategies of these investments and how to employ them in self-directed retirement accounts. \nMidAtlantic IRA\, LLC (https://www.midatlanticira.com/) and The Baltimore REIA (http://www.baltimorereia.com/) invite you to this powerful group of networkers. Don’t miss a great evening of networking. We are not selling at this Meetup\, no books\, no boot-camps\, no CD’s. This is like-minded individuals who want to network to build their real estate business. \nThere is no charge for this meeting if you are a member of the Baltimore REIA\, otherwise there is $19.00 charge at the door\, cash only please. You need to buy your own meal. Separate checks are available from the restaurant.
URL:https://www.midatlanticira.com/event/baltimore-strategies-group-meeting/
LOCATION:Ocean Pride Restaurant & Carry out\, 1534 York Road\, Lutherville\, MD\, 21093\, United States
CATEGORIES:Strategy Groups
END:VEVENT
END:VCALENDAR