BEGIN:VCALENDAR
VERSION:2.0
PRODID:-//Midatlantic IRA - ECPv6.15.20//NONSGML v1.0//EN
CALSCALE:GREGORIAN
METHOD:PUBLISH
X-ORIGINAL-URL:https://www.midatlanticira.com
X-WR-CALDESC:Events for Midatlantic IRA
REFRESH-INTERVAL;VALUE=DURATION:PT1H
X-Robots-Tag:noindex
X-PUBLISHED-TTL:PT1H
BEGIN:VTIMEZONE
TZID:America/New_York
BEGIN:DAYLIGHT
TZOFFSETFROM:-0500
TZOFFSETTO:-0400
TZNAME:EDT
DTSTART:20190310T070000
END:DAYLIGHT
BEGIN:STANDARD
TZOFFSETFROM:-0400
TZOFFSETTO:-0500
TZNAME:EST
DTSTART:20191103T060000
END:STANDARD
BEGIN:DAYLIGHT
TZOFFSETFROM:-0500
TZOFFSETTO:-0400
TZNAME:EDT
DTSTART:20200308T070000
END:DAYLIGHT
BEGIN:STANDARD
TZOFFSETFROM:-0400
TZOFFSETTO:-0500
TZNAME:EST
DTSTART:20201101T060000
END:STANDARD
BEGIN:DAYLIGHT
TZOFFSETFROM:-0500
TZOFFSETTO:-0400
TZNAME:EDT
DTSTART:20210314T070000
END:DAYLIGHT
BEGIN:STANDARD
TZOFFSETFROM:-0400
TZOFFSETTO:-0500
TZNAME:EST
DTSTART:20211107T060000
END:STANDARD
END:VTIMEZONE
BEGIN:VEVENT
DTSTART;TZID=America/New_York:20200602T140000
DTEND;TZID=America/New_York:20200602T150000
DTSTAMP:20260424T113624
CREATED:20200520T194105Z
LAST-MODIFIED:20200520T194105Z
UID:321313-1591106400-1591110000@www.midatlanticira.com
SUMMARY:Webinar - Introduction to Self-Directed IRAs
DESCRIPTION:Want to be a more “hands-on” investor? Not sure where to begin? \nDuring this webinar\, Jack Kiley of MidAtlantic IRA will go over everything you need to know when it comes to Self-Directed IRAs. You’ll learn exactly what a Self-Directed IRA is\, what you can invest in and who you can invest with. \nRegister Here
URL:https://www.midatlanticira.com/event/webinar-introduction-to-self-directed-iras-5/
CATEGORIES:Webinars
END:VEVENT
END:VCALENDAR