BEGIN:VCALENDAR
VERSION:2.0
PRODID:-//Midatlantic IRA - ECPv6.15.20//NONSGML v1.0//EN
CALSCALE:GREGORIAN
METHOD:PUBLISH
X-WR-CALNAME:Midatlantic IRA
X-ORIGINAL-URL:https://www.midatlanticira.com
X-WR-CALDESC:Events for Midatlantic IRA
REFRESH-INTERVAL;VALUE=DURATION:PT1H
X-Robots-Tag:noindex
X-PUBLISHED-TTL:PT1H
BEGIN:VTIMEZONE
TZID:America/New_York
BEGIN:DAYLIGHT
TZOFFSETFROM:-0500
TZOFFSETTO:-0400
TZNAME:EDT
DTSTART:20190310T070000
END:DAYLIGHT
BEGIN:STANDARD
TZOFFSETFROM:-0400
TZOFFSETTO:-0500
TZNAME:EST
DTSTART:20191103T060000
END:STANDARD
BEGIN:DAYLIGHT
TZOFFSETFROM:-0500
TZOFFSETTO:-0400
TZNAME:EDT
DTSTART:20200308T070000
END:DAYLIGHT
BEGIN:STANDARD
TZOFFSETFROM:-0400
TZOFFSETTO:-0500
TZNAME:EST
DTSTART:20201101T060000
END:STANDARD
BEGIN:DAYLIGHT
TZOFFSETFROM:-0500
TZOFFSETTO:-0400
TZNAME:EDT
DTSTART:20210314T070000
END:DAYLIGHT
BEGIN:STANDARD
TZOFFSETFROM:-0400
TZOFFSETTO:-0500
TZNAME:EST
DTSTART:20211107T060000
END:STANDARD
END:VTIMEZONE
BEGIN:VEVENT
DTSTART;TZID=America/New_York:20200505T140000
DTEND;TZID=America/New_York:20200505T150000
DTSTAMP:20260424T144159
CREATED:20200427T205407Z
LAST-MODIFIED:20200427T205407Z
UID:321188-1588687200-1588690800@www.midatlanticira.com
SUMMARY:Webinar: Introduction to Self-Directed IRAs
DESCRIPTION:Want to be a more “hands-on” investor? Not sure where to begin? \nDuring this webinar\, Jack Kiley of MidAtlantic IRA will go over everything you need to know when it comes to Self-Directed IRAs. You’ll learn exactly what a Self-Directed IRA is\, what you can invest in and who you can invest with. \n  \nRegister Here\n  \n 
URL:https://www.midatlanticira.com/event/webinar-introduction-to-self-directed-iras-3/
CATEGORIES:Webinars
END:VEVENT
BEGIN:VEVENT
DTSTART;TZID=America/New_York:20200507T140000
DTEND;TZID=America/New_York:20200507T150000
DTSTAMP:20260424T144159
CREATED:20200427T205604Z
LAST-MODIFIED:20200427T205604Z
UID:321191-1588860000-1588863600@www.midatlanticira.com
SUMMARY:Webinar: Investing in Real Estate with a Self-Directed IRA
DESCRIPTION:Real estate investments can be complicated. Using IRA funds to make real estate investments sounds even more complicated. It’s not! \nJoin Jack Kiley of MidAtlantic IRA and let him help you connect the dots. \nIn this webinar we will discuss the do’s and don’ts as well the process. So join us to learn how to leverage your real estate expertise. \n  \nRegister Here\n  \n 
URL:https://www.midatlanticira.com/event/webinar-investing-in-real-estate-with-a-self-directed-ira/
CATEGORIES:Webinars
END:VEVENT
BEGIN:VEVENT
DTSTART;TZID=America/New_York:20200512T140000
DTEND;TZID=America/New_York:20200512T150000
DTSTAMP:20260424T144159
CREATED:20200427T205728Z
LAST-MODIFIED:20200427T205803Z
UID:321193-1589292000-1589295600@www.midatlanticira.com
SUMMARY:Webinar: Traditional vs Roth IRAs
DESCRIPTION:Join us to learn what are Traditional and Roth IRAs. \nJack Kiley of MidAtlantic IRA will explore where these retirement accounts are similar and\, more importantly\, where they are different. \nUnderstanding the differences may help you assess which is a better option for you. \n  \nRegister Here\n  \n 
URL:https://www.midatlanticira.com/event/webinar-traditional-vs-roth-iras-2/
CATEGORIES:Webinars
END:VEVENT
BEGIN:VEVENT
DTSTART;TZID=America/New_York:20200519T140000
DTEND;TZID=America/New_York:20200519T150000
DTSTAMP:20260424T144159
CREATED:20200427T210031Z
LAST-MODIFIED:20200427T210031Z
UID:321195-1589896800-1589900400@www.midatlanticira.com
SUMMARY:Webinar: Introduction to Self-Directed IRAs
DESCRIPTION:Want to be a more “hands-on” investor? Not sure where to begin? \nDuring this webinar\, Jack Kiley of MidAtlantic IRA will go over everything you need to know when it comes to Self-Directed IRAs. You’ll learn exactly what a Self-Directed IRA is\, what you can invest in and who you can invest with. \n  \nRegister Here\n  \n 
URL:https://www.midatlanticira.com/event/webinar-introduction-to-self-directed-iras-4/
CATEGORIES:Webinars
END:VEVENT
END:VCALENDAR