BEGIN:VCALENDAR
VERSION:2.0
PRODID:-//Midatlantic IRA - ECPv6.15.20//NONSGML v1.0//EN
CALSCALE:GREGORIAN
METHOD:PUBLISH
X-WR-CALNAME:Midatlantic IRA
X-ORIGINAL-URL:https://www.midatlanticira.com
X-WR-CALDESC:Events for Midatlantic IRA
REFRESH-INTERVAL;VALUE=DURATION:PT1H
X-Robots-Tag:noindex
X-PUBLISHED-TTL:PT1H
BEGIN:VTIMEZONE
TZID:America/New_York
BEGIN:DAYLIGHT
TZOFFSETFROM:-0500
TZOFFSETTO:-0400
TZNAME:EDT
DTSTART:20190310T070000
END:DAYLIGHT
BEGIN:STANDARD
TZOFFSETFROM:-0400
TZOFFSETTO:-0500
TZNAME:EST
DTSTART:20191103T060000
END:STANDARD
BEGIN:DAYLIGHT
TZOFFSETFROM:-0500
TZOFFSETTO:-0400
TZNAME:EDT
DTSTART:20200308T070000
END:DAYLIGHT
BEGIN:STANDARD
TZOFFSETFROM:-0400
TZOFFSETTO:-0500
TZNAME:EST
DTSTART:20201101T060000
END:STANDARD
BEGIN:DAYLIGHT
TZOFFSETFROM:-0500
TZOFFSETTO:-0400
TZNAME:EDT
DTSTART:20210314T070000
END:DAYLIGHT
BEGIN:STANDARD
TZOFFSETFROM:-0400
TZOFFSETTO:-0500
TZNAME:EST
DTSTART:20211107T060000
END:STANDARD
END:VTIMEZONE
BEGIN:VEVENT
DTSTART;TZID=America/New_York:20200818T183000
DTEND;TZID=America/New_York:20200818T203000
DTSTAMP:20260420T221215
CREATED:20200807T152133Z
LAST-MODIFIED:20200807T152134Z
UID:321550-1597775400-1597782600@www.midatlanticira.com
SUMMARY:Northern Virginia Strategies Group - BYOD
DESCRIPTION:August is ‘Bring Your Deal’ month at the Northern Virginia Strategy Group Meeting. \nIf you have been contemplating a transaction but haven’t quite been able to connect the dots\, bring it to our meeting and get some help! Many times\, obstacles that you are running into others have conquered! Learn how fellow members have solved common problems and understand how to correctly structure your investment. \nJoin us for constructive input on getting your investment to the finish line.
URL:https://www.midatlanticira.com/event/northern-virginia-strategies-group-byod/
CATEGORIES:Strategy Groups
END:VEVENT
END:VCALENDAR