BEGIN:VCALENDAR
VERSION:2.0
PRODID:-//Midatlantic IRA - ECPv6.15.20//NONSGML v1.0//EN
CALSCALE:GREGORIAN
METHOD:PUBLISH
X-WR-CALNAME:Midatlantic IRA
X-ORIGINAL-URL:https://www.midatlanticira.com
X-WR-CALDESC:Events for Midatlantic IRA
REFRESH-INTERVAL;VALUE=DURATION:PT1H
X-Robots-Tag:noindex
X-PUBLISHED-TTL:PT1H
BEGIN:VTIMEZONE
TZID:America/New_York
BEGIN:DAYLIGHT
TZOFFSETFROM:-0500
TZOFFSETTO:-0400
TZNAME:EDT
DTSTART:20190310T070000
END:DAYLIGHT
BEGIN:STANDARD
TZOFFSETFROM:-0400
TZOFFSETTO:-0500
TZNAME:EST
DTSTART:20191103T060000
END:STANDARD
BEGIN:DAYLIGHT
TZOFFSETFROM:-0500
TZOFFSETTO:-0400
TZNAME:EDT
DTSTART:20200308T070000
END:DAYLIGHT
BEGIN:STANDARD
TZOFFSETFROM:-0400
TZOFFSETTO:-0500
TZNAME:EST
DTSTART:20201101T060000
END:STANDARD
BEGIN:DAYLIGHT
TZOFFSETFROM:-0500
TZOFFSETTO:-0400
TZNAME:EDT
DTSTART:20210314T070000
END:DAYLIGHT
BEGIN:STANDARD
TZOFFSETFROM:-0400
TZOFFSETTO:-0500
TZNAME:EST
DTSTART:20211107T060000
END:STANDARD
END:VTIMEZONE
BEGIN:VEVENT
DTSTART;TZID=America/New_York:20200813T193000
DTEND;TZID=America/New_York:20200813T213000
DTSTAMP:20260420T221214
CREATED:20200807T151931Z
LAST-MODIFIED:20200807T151931Z
UID:321548-1597347000-1597354200@www.midatlanticira.com
SUMMARY:Kansas City Strategies Group - BYOD
DESCRIPTION:August is ‘Bring Your Deal’ month at the Kansas City Strategy Group Meeting. \nIf you have been contemplating a transaction but haven’t quite been able to connect the dots\, bring it to our meeting and get some help! Many times\, obstacles that you are running into others have conquered! Learn how fellow members have solved common problems and understand how to correctly structure your investment. \nJoin us for constructive input on getting your investment to the finish line.
URL:https://www.midatlanticira.com/event/kansas-city-strategies-group-byod/
CATEGORIES:Strategy Groups
END:VEVENT
END:VCALENDAR