BEGIN:VCALENDAR
VERSION:2.0
PRODID:-//Midatlantic IRA - ECPv6.15.20//NONSGML v1.0//EN
CALSCALE:GREGORIAN
METHOD:PUBLISH
X-ORIGINAL-URL:https://www.midatlanticira.com
X-WR-CALDESC:Events for Midatlantic IRA
REFRESH-INTERVAL;VALUE=DURATION:PT1H
X-Robots-Tag:noindex
X-PUBLISHED-TTL:PT1H
BEGIN:VTIMEZONE
TZID:America/New_York
BEGIN:DAYLIGHT
TZOFFSETFROM:-0500
TZOFFSETTO:-0400
TZNAME:EDT
DTSTART:20210314T070000
END:DAYLIGHT
BEGIN:STANDARD
TZOFFSETFROM:-0400
TZOFFSETTO:-0500
TZNAME:EST
DTSTART:20211107T060000
END:STANDARD
BEGIN:DAYLIGHT
TZOFFSETFROM:-0500
TZOFFSETTO:-0400
TZNAME:EDT
DTSTART:20220313T070000
END:DAYLIGHT
BEGIN:STANDARD
TZOFFSETFROM:-0400
TZOFFSETTO:-0500
TZNAME:EST
DTSTART:20221106T060000
END:STANDARD
BEGIN:DAYLIGHT
TZOFFSETFROM:-0500
TZOFFSETTO:-0400
TZNAME:EDT
DTSTART:20230312T070000
END:DAYLIGHT
BEGIN:STANDARD
TZOFFSETFROM:-0400
TZOFFSETTO:-0500
TZNAME:EST
DTSTART:20231105T060000
END:STANDARD
END:VTIMEZONE
BEGIN:VEVENT
DTSTART;TZID=America/New_York:20220616T183000
DTEND;TZID=America/New_York:20220616T203000
DTSTAMP:20260420T230134
CREATED:20220528T225809Z
LAST-MODIFIED:20220528T225813Z
UID:323018-1655404200-1655411400@www.midatlanticira.com
SUMMARY:Clients Only Strategies Group
DESCRIPTION:Invest Like a Power User\nAt our next Strategies meeting\, some of our own Power Users will share their experience and investment strategies. \nThis is our exclusive Strategies Group where we’ll cover various IRA topics and learn from fellow investors about their current deals within their MidAtlantic IRAs. If you’re looking to network\, gain new insights for your personal strategies and dive deeper with your IRA investments\, this is the group for you. \nYou must be a Client of MidAtlantic IRA in order to attend. Please contact Sioban Kiley at our office to secure your spot at 240-575-3880 x209
URL:https://www.midatlanticira.com/event/clients-only-strategies-group-2/
CATEGORIES:Strategy Groups
END:VEVENT
END:VCALENDAR