BEGIN:VCALENDAR
VERSION:2.0
PRODID:-//Midatlantic IRA - ECPv6.15.20//NONSGML v1.0//EN
CALSCALE:GREGORIAN
METHOD:PUBLISH
X-WR-CALNAME:Midatlantic IRA
X-ORIGINAL-URL:https://www.midatlanticira.com
X-WR-CALDESC:Events for Midatlantic IRA
REFRESH-INTERVAL;VALUE=DURATION:PT1H
X-Robots-Tag:noindex
X-PUBLISHED-TTL:PT1H
BEGIN:VTIMEZONE
TZID:America/New_York
BEGIN:DAYLIGHT
TZOFFSETFROM:-0500
TZOFFSETTO:-0400
TZNAME:EDT
DTSTART:20210314T070000
END:DAYLIGHT
BEGIN:STANDARD
TZOFFSETFROM:-0400
TZOFFSETTO:-0500
TZNAME:EST
DTSTART:20211107T060000
END:STANDARD
BEGIN:DAYLIGHT
TZOFFSETFROM:-0500
TZOFFSETTO:-0400
TZNAME:EDT
DTSTART:20220313T070000
END:DAYLIGHT
BEGIN:STANDARD
TZOFFSETFROM:-0400
TZOFFSETTO:-0500
TZNAME:EST
DTSTART:20221106T060000
END:STANDARD
BEGIN:DAYLIGHT
TZOFFSETFROM:-0500
TZOFFSETTO:-0400
TZNAME:EDT
DTSTART:20230312T070000
END:DAYLIGHT
BEGIN:STANDARD
TZOFFSETFROM:-0400
TZOFFSETTO:-0500
TZNAME:EST
DTSTART:20231105T060000
END:STANDARD
END:VTIMEZONE
BEGIN:VEVENT
DTSTART;TZID=America/New_York:20220426T183000
DTEND;TZID=America/New_York:20220426T203000
DTSTAMP:20260421T090058
CREATED:20220405T221921Z
LAST-MODIFIED:20220405T221921Z
UID:322934-1650997800-1651005000@www.midatlanticira.com
SUMMARY:Baltimore Strategies Group
DESCRIPTION:Have you ever borrowed money for real estate investing — personally or with a business entity? Good news: your IRA can do the same! \nSavvy investors know the power of leverage. At our next Strategies IRA Meeting\, Jack Kiley of MidAtlantic IRA will show you how to borrow money and apply leverage within your self-directed IRA. \nImportant: You must follow the rules to avoid trouble with the IRS. Jack will show you the correct\, legal way. \nWhether you have a self-directed IRA now or not yet\, join us and learn how to put this powerful tool to work for you. \nThis is an on-line event. The meeting link will be sent to those who RSVP.\nThe link will require another short registration\, so please logon 5 minutes before the start time so you will be ready to go at 6:30.
URL:https://www.midatlanticira.com/event/baltimore-strategies-group-8/
CATEGORIES:Strategy Groups
END:VEVENT
END:VCALENDAR