BEGIN:VCALENDAR
VERSION:2.0
PRODID:-//Midatlantic IRA - ECPv6.15.20//NONSGML v1.0//EN
CALSCALE:GREGORIAN
METHOD:PUBLISH
X-ORIGINAL-URL:https://www.midatlanticira.com
X-WR-CALDESC:Events for Midatlantic IRA
REFRESH-INTERVAL;VALUE=DURATION:PT1H
X-Robots-Tag:noindex
X-PUBLISHED-TTL:PT1H
BEGIN:VTIMEZONE
TZID:America/North_Dakota/Center
BEGIN:DAYLIGHT
TZOFFSETFROM:-0600
TZOFFSETTO:-0500
TZNAME:CDT
DTSTART:20210314T080000
END:DAYLIGHT
BEGIN:STANDARD
TZOFFSETFROM:-0500
TZOFFSETTO:-0600
TZNAME:CST
DTSTART:20211107T070000
END:STANDARD
BEGIN:DAYLIGHT
TZOFFSETFROM:-0600
TZOFFSETTO:-0500
TZNAME:CDT
DTSTART:20220313T080000
END:DAYLIGHT
BEGIN:STANDARD
TZOFFSETFROM:-0500
TZOFFSETTO:-0600
TZNAME:CST
DTSTART:20221106T070000
END:STANDARD
BEGIN:DAYLIGHT
TZOFFSETFROM:-0600
TZOFFSETTO:-0500
TZNAME:CDT
DTSTART:20230312T080000
END:DAYLIGHT
BEGIN:STANDARD
TZOFFSETFROM:-0500
TZOFFSETTO:-0600
TZNAME:CST
DTSTART:20231105T070000
END:STANDARD
END:VTIMEZONE
BEGIN:VEVENT
DTSTART;TZID=America/North_Dakota/Center:20220414T183000
DTEND;TZID=America/North_Dakota/Center:20220414T203000
DTSTAMP:20260421T090225
CREATED:20220405T221643Z
LAST-MODIFIED:20220405T221643Z
UID:322928-1649961000-1649968200@www.midatlanticira.com
SUMMARY:Kansas City Strategies Group
DESCRIPTION:Have you ever borrowed money for real estate investing — personally or with a business entity? Good news: your IRA can do the same! \nSavvy investors know the power of leverage. At our next Strategies IRA Meeting\, Jack Kiley of MidAtlantic IRA will show you how to borrow money and apply leverage within your self-directed IRA. \nImportant: You must follow the rules to avoid trouble with the IRS. Jack will show you the correct\, legal way. \nWhether you have a self-directed IRA now or not yet\, join us and learn how to put this powerful tool to work for you. \nThis is an on-line event. The meeting link will be sent to those who RSVP.\nThe link will require another short registration\, so please logon 5 minutes before the start time so you will be ready to go at 6:30.
URL:https://www.midatlanticira.com/event/kansas-city-strategies-group-11/
CATEGORIES:Strategy Groups
END:VEVENT
END:VCALENDAR