BEGIN:VCALENDAR
VERSION:2.0
PRODID:-//Midatlantic IRA - ECPv6.15.20//NONSGML v1.0//EN
CALSCALE:GREGORIAN
METHOD:PUBLISH
X-ORIGINAL-URL:https://www.midatlanticira.com
X-WR-CALDESC:Events for Midatlantic IRA
REFRESH-INTERVAL;VALUE=DURATION:PT1H
X-Robots-Tag:noindex
X-PUBLISHED-TTL:PT1H
BEGIN:VTIMEZONE
TZID:America/New_York
BEGIN:DAYLIGHT
TZOFFSETFROM:-0500
TZOFFSETTO:-0400
TZNAME:EDT
DTSTART:20210314T070000
END:DAYLIGHT
BEGIN:STANDARD
TZOFFSETFROM:-0400
TZOFFSETTO:-0500
TZNAME:EST
DTSTART:20211107T060000
END:STANDARD
BEGIN:DAYLIGHT
TZOFFSETFROM:-0500
TZOFFSETTO:-0400
TZNAME:EDT
DTSTART:20220313T070000
END:DAYLIGHT
BEGIN:STANDARD
TZOFFSETFROM:-0400
TZOFFSETTO:-0500
TZNAME:EST
DTSTART:20221106T060000
END:STANDARD
BEGIN:DAYLIGHT
TZOFFSETFROM:-0500
TZOFFSETTO:-0400
TZNAME:EDT
DTSTART:20230312T070000
END:DAYLIGHT
BEGIN:STANDARD
TZOFFSETFROM:-0400
TZOFFSETTO:-0500
TZNAME:EST
DTSTART:20231105T060000
END:STANDARD
END:VTIMEZONE
BEGIN:VEVENT
DTSTART;TZID=America/New_York:20220407T183000
DTEND;TZID=America/New_York:20220407T203000
DTSTAMP:20260421T090226
CREATED:20220405T221543Z
LAST-MODIFIED:20220405T221543Z
UID:322926-1649356200-1649363400@www.midatlanticira.com
SUMMARY:VA Beach Strategies Group
DESCRIPTION:Have you ever borrowed money for real estate investing — personally or with a business entity? Good news: your IRA can do the same! \nSavvy investors know the power of leverage. At our next Strategies IRA Meeting\, Jack Kiley of MidAtlantic IRA will show you how to borrow money and apply leverage within your self-directed IRA.\nImportant: You must follow the rules to avoid trouble with the IRS. Jack will show you the correct\, legal way. \nWhether you have a self-directed IRA now or not yet\, join us and learn how to put this powerful tool to work for you. \nCome to our next Investment Strategies Meeting and let Jack Kiley show you why Self-Directed IRAs might be a great source of investing capital. Whether you have a Self-Directed IRA already…you’re thinking about opening one… or you’re just curious… come and explore these potentially powerful strategies!
URL:https://www.midatlanticira.com/event/va-beach-strategies-group-3/
CATEGORIES:Strategy Groups
END:VEVENT
END:VCALENDAR