BEGIN:VCALENDAR
VERSION:2.0
PRODID:-//Midatlantic IRA - ECPv6.15.20//NONSGML v1.0//EN
CALSCALE:GREGORIAN
METHOD:PUBLISH
X-WR-CALNAME:Midatlantic IRA
X-ORIGINAL-URL:https://www.midatlanticira.com
X-WR-CALDESC:Events for Midatlantic IRA
REFRESH-INTERVAL;VALUE=DURATION:PT1H
X-Robots-Tag:noindex
X-PUBLISHED-TTL:PT1H
BEGIN:VTIMEZONE
TZID:America/Detroit
BEGIN:DAYLIGHT
TZOFFSETFROM:-0500
TZOFFSETTO:-0400
TZNAME:EDT
DTSTART:20210314T070000
END:DAYLIGHT
BEGIN:STANDARD
TZOFFSETFROM:-0400
TZOFFSETTO:-0500
TZNAME:EST
DTSTART:20211107T060000
END:STANDARD
BEGIN:DAYLIGHT
TZOFFSETFROM:-0500
TZOFFSETTO:-0400
TZNAME:EDT
DTSTART:20220313T070000
END:DAYLIGHT
BEGIN:STANDARD
TZOFFSETFROM:-0400
TZOFFSETTO:-0500
TZNAME:EST
DTSTART:20221106T060000
END:STANDARD
BEGIN:DAYLIGHT
TZOFFSETFROM:-0500
TZOFFSETTO:-0400
TZNAME:EDT
DTSTART:20230312T070000
END:DAYLIGHT
BEGIN:STANDARD
TZOFFSETFROM:-0400
TZOFFSETTO:-0500
TZNAME:EST
DTSTART:20231105T060000
END:STANDARD
END:VTIMEZONE
BEGIN:VEVENT
DTSTART;TZID=America/Detroit:20220310T183000
DTEND;TZID=America/Detroit:20220310T203000
DTSTAMP:20260421T103016
CREATED:20220302T191203Z
LAST-MODIFIED:20220302T191203Z
UID:322907-1646937000-1646944200@www.midatlanticira.com
SUMMARY:Kansas City Strategies Group
DESCRIPTION:Note Investing & Private Lending in a Self-Directed IRA\nMore and more investors are buying notes\, so why not do it with a self-directed IRA? You can do private lending with your IRA\, too. \nAt our next Strategies IRA Meeting\, Jack Kiley of MidAtlantic IRA will show you how an IRA could help you add the power of tax advantages to these strategies. \nImagine earning a generous return from notes… or lending money at the high rates typical of hard-money lenders… and saving on taxes\, too! \n(HINT: Even if you don’t have money to lend from your IRA\, knowing how is a good thing. Because you can invite others to lend to you from their self-directed IRAs — or open such an IRA precisely to lend you money.) \nRegister Here
URL:https://www.midatlanticira.com/event/kansas-city-strategies-group-10/
CATEGORIES:Strategy Groups
END:VEVENT
END:VCALENDAR