BEGIN:VCALENDAR
VERSION:2.0
PRODID:-//Midatlantic IRA - ECPv6.15.20//NONSGML v1.0//EN
CALSCALE:GREGORIAN
METHOD:PUBLISH
X-WR-CALNAME:Midatlantic IRA
X-ORIGINAL-URL:https://www.midatlanticira.com
X-WR-CALDESC:Events for Midatlantic IRA
REFRESH-INTERVAL;VALUE=DURATION:PT1H
X-Robots-Tag:noindex
X-PUBLISHED-TTL:PT1H
BEGIN:VTIMEZONE
TZID:America/North_Dakota/Center
BEGIN:DAYLIGHT
TZOFFSETFROM:-0600
TZOFFSETTO:-0500
TZNAME:CDT
DTSTART:20200308T080000
END:DAYLIGHT
BEGIN:STANDARD
TZOFFSETFROM:-0500
TZOFFSETTO:-0600
TZNAME:CST
DTSTART:20201101T070000
END:STANDARD
BEGIN:DAYLIGHT
TZOFFSETFROM:-0600
TZOFFSETTO:-0500
TZNAME:CDT
DTSTART:20210314T080000
END:DAYLIGHT
BEGIN:STANDARD
TZOFFSETFROM:-0500
TZOFFSETTO:-0600
TZNAME:CST
DTSTART:20211107T070000
END:STANDARD
BEGIN:DAYLIGHT
TZOFFSETFROM:-0600
TZOFFSETTO:-0500
TZNAME:CDT
DTSTART:20220313T080000
END:DAYLIGHT
BEGIN:STANDARD
TZOFFSETFROM:-0500
TZOFFSETTO:-0600
TZNAME:CST
DTSTART:20221106T070000
END:STANDARD
END:VTIMEZONE
BEGIN:VEVENT
DTSTART;TZID=America/North_Dakota/Center:20210708T183000
DTEND;TZID=America/North_Dakota/Center:20210708T200000
DTSTAMP:20260422T003530
CREATED:20210701T222725Z
LAST-MODIFIED:20210701T222725Z
UID:322411-1625769000-1625774400@www.midatlanticira.com
SUMMARY:Kansas City Strategies Group
DESCRIPTION:Partnering with your Self-Directed IRA\nSometimes you need more capital to make a deal happen. How about using your self-directed IRA as a partner in the transaction? Let an expert show you the way. \nAt our next IRA Strategies meeting\, John “Jack” Kiley\, CPA\, CISP of MidAtlantic IRA will help you understand the best structures for pooling capital\, how to combine IRA funds with other real estate investor funds\, and the potential pitfalls of using IRA funds.
URL:https://www.midatlanticira.com/event/kansas-city-strategies-group-7/
CATEGORIES:Strategy Groups
END:VEVENT
END:VCALENDAR