BEGIN:VCALENDAR
VERSION:2.0
PRODID:-//Midatlantic IRA - ECPv6.15.20//NONSGML v1.0//EN
CALSCALE:GREGORIAN
METHOD:PUBLISH
X-WR-CALNAME:Midatlantic IRA
X-ORIGINAL-URL:https://www.midatlanticira.com
X-WR-CALDESC:Events for Midatlantic IRA
REFRESH-INTERVAL;VALUE=DURATION:PT1H
X-Robots-Tag:noindex
X-PUBLISHED-TTL:PT1H
BEGIN:VTIMEZONE
TZID:America/North_Dakota/Center
BEGIN:DAYLIGHT
TZOFFSETFROM:-0600
TZOFFSETTO:-0500
TZNAME:CDT
DTSTART:20200308T080000
END:DAYLIGHT
BEGIN:STANDARD
TZOFFSETFROM:-0500
TZOFFSETTO:-0600
TZNAME:CST
DTSTART:20201101T070000
END:STANDARD
BEGIN:DAYLIGHT
TZOFFSETFROM:-0600
TZOFFSETTO:-0500
TZNAME:CDT
DTSTART:20210314T080000
END:DAYLIGHT
BEGIN:STANDARD
TZOFFSETFROM:-0500
TZOFFSETTO:-0600
TZNAME:CST
DTSTART:20211107T070000
END:STANDARD
BEGIN:DAYLIGHT
TZOFFSETFROM:-0600
TZOFFSETTO:-0500
TZNAME:CDT
DTSTART:20220313T080000
END:DAYLIGHT
BEGIN:STANDARD
TZOFFSETFROM:-0500
TZOFFSETTO:-0600
TZNAME:CST
DTSTART:20221106T070000
END:STANDARD
END:VTIMEZONE
BEGIN:VEVENT
DTSTART;TZID=America/North_Dakota/Center:20210513T183000
DTEND;TZID=America/North_Dakota/Center:20210513T200000
DTSTAMP:20260422T035055
CREATED:20210507T201111Z
LAST-MODIFIED:20210507T201444Z
UID:322324-1620930600-1620936000@www.midatlanticira.com
SUMMARY:Kansas City Strategies Group
DESCRIPTION:Rehabbing in a Self-Directed IRA\nThis meeting is ideal for rehabbers with capital tied up in retirement plans\, rehabbers without a retirement plan\, or anyone who wants to become a rehabber. \nAt our next IRA Strategies meeting\, John “Jack” Kiley\, CPA\, CISP of MidAtlantic IRA will show you how to rehab properties with funding from a self-directed IRA. He’ll detail the rules you must follow to do it legally and avoid invalidating your IRA. \nRegister Here: https://us02web.zoom.us/meeting/register/tZMsdO6vqDovE9DhXiniPf7GxAkDhuqnKi6s
URL:https://www.midatlanticira.com/event/kansas-city-strategies-group-6/
CATEGORIES:Strategy Groups
END:VEVENT
END:VCALENDAR