BEGIN:VCALENDAR
VERSION:2.0
PRODID:-//Midatlantic IRA - ECPv6.15.20//NONSGML v1.0//EN
CALSCALE:GREGORIAN
METHOD:PUBLISH
X-ORIGINAL-URL:https://www.midatlanticira.com
X-WR-CALDESC:Events for Midatlantic IRA
REFRESH-INTERVAL;VALUE=DURATION:PT1H
X-Robots-Tag:noindex
X-PUBLISHED-TTL:PT1H
BEGIN:VTIMEZONE
TZID:America/New_York
BEGIN:DAYLIGHT
TZOFFSETFROM:-0500
TZOFFSETTO:-0400
TZNAME:EDT
DTSTART:20200308T070000
END:DAYLIGHT
BEGIN:STANDARD
TZOFFSETFROM:-0400
TZOFFSETTO:-0500
TZNAME:EST
DTSTART:20201101T060000
END:STANDARD
BEGIN:DAYLIGHT
TZOFFSETFROM:-0500
TZOFFSETTO:-0400
TZNAME:EDT
DTSTART:20210314T070000
END:DAYLIGHT
BEGIN:STANDARD
TZOFFSETFROM:-0400
TZOFFSETTO:-0500
TZNAME:EST
DTSTART:20211107T060000
END:STANDARD
BEGIN:DAYLIGHT
TZOFFSETFROM:-0500
TZOFFSETTO:-0400
TZNAME:EDT
DTSTART:20220313T070000
END:DAYLIGHT
BEGIN:STANDARD
TZOFFSETFROM:-0400
TZOFFSETTO:-0500
TZNAME:EST
DTSTART:20221106T060000
END:STANDARD
END:VTIMEZONE
BEGIN:VEVENT
DTSTART;TZID=America/New_York:20210408T193000
DTEND;TZID=America/New_York:20210408T213000
DTSTAMP:20260422T050659
CREATED:20210324T195112Z
LAST-MODIFIED:20210324T195112Z
UID:322120-1617910200-1617917400@www.midatlanticira.com
SUMMARY:Kansas City Strategy Group - VIRTUAL
DESCRIPTION:The Power of Leverage\nHave you ever borrowed money for real estate investing-personally or with a business entity? Your IRA can do that same! Savvy investors understand the power of leverage\, and the sharp ones use it inside their IRA. Join us and understand the techniques to do it right. \nAt our next IRA Strategies meeting\, John “Jack” Kiley\, CPA\, CISP of MidAtlantic IRA will show you how to borrow money within your self-directed IRA without getting in trouble. \n  \nRegister Here
URL:https://www.midatlanticira.com/event/kansas-city-strategy-group-virtual/
CATEGORIES:Strategy Groups
END:VEVENT
END:VCALENDAR