BEGIN:VCALENDAR
VERSION:2.0
PRODID:-//Midatlantic IRA - ECPv6.15.20//NONSGML v1.0//EN
CALSCALE:GREGORIAN
METHOD:PUBLISH
X-ORIGINAL-URL:https://www.midatlanticira.com
X-WR-CALDESC:Events for Midatlantic IRA
REFRESH-INTERVAL;VALUE=DURATION:PT1H
X-Robots-Tag:noindex
X-PUBLISHED-TTL:PT1H
BEGIN:VTIMEZONE
TZID:America/New_York
BEGIN:DAYLIGHT
TZOFFSETFROM:-0500
TZOFFSETTO:-0400
TZNAME:EDT
DTSTART:20200308T070000
END:DAYLIGHT
BEGIN:STANDARD
TZOFFSETFROM:-0400
TZOFFSETTO:-0500
TZNAME:EST
DTSTART:20201101T060000
END:STANDARD
BEGIN:DAYLIGHT
TZOFFSETFROM:-0500
TZOFFSETTO:-0400
TZNAME:EDT
DTSTART:20210314T070000
END:DAYLIGHT
BEGIN:STANDARD
TZOFFSETFROM:-0400
TZOFFSETTO:-0500
TZNAME:EST
DTSTART:20211107T060000
END:STANDARD
BEGIN:DAYLIGHT
TZOFFSETFROM:-0500
TZOFFSETTO:-0400
TZNAME:EDT
DTSTART:20220313T070000
END:DAYLIGHT
BEGIN:STANDARD
TZOFFSETFROM:-0400
TZOFFSETTO:-0500
TZNAME:EST
DTSTART:20221106T060000
END:STANDARD
END:VTIMEZONE
BEGIN:VEVENT
DTSTART;TZID=America/New_York:20210126T183000
DTEND;TZID=America/New_York:20210126T203000
DTSTAMP:20260422T131321
CREATED:20210112T164555Z
LAST-MODIFIED:20210112T164555Z
UID:321906-1611685800-1611693000@www.midatlanticira.com
SUMMARY:Baltimore Strategy Group
DESCRIPTION:Introduction to Self-Directed IRAs\nWant to be a more “hands-on” investor? Not sure where to begin? During this meeting\, Jack Kiley of MidAtlantic IRA will go over everything you need to know when it comes to Self-Directed IRAs. You’ll learn exactly what a Self-Directed IRA is\, what you can invest in and who you can invest with. \nIf you are still sitting on the launching pad\, fueled and ready to go but……your countdown has been halted\, we invite you out Tuesday night to get your rocket lit. This meeting is about action right now. Do not wait any longer. Come hear about the things you can do to make your wealth building dreams come true. \nMidAtlantic IRA\, LLC (http://www.midatlanticira.com/) and The Baltimore REIA (http://www.baltimorereia.com/) invite you to this powerful group of networkers. Don’t miss a great evening of networking. We are not selling at this Meetup\, no books\, no boot-camps\, no CD’s. This is like-minded individuals who want to network to build their real estate business. \nYour net worth is a reflection of your network. \nRegister today.
URL:https://www.midatlanticira.com/event/baltimore-strategy-group/
CATEGORIES:Strategy Groups
END:VEVENT
END:VCALENDAR