BEGIN:VCALENDAR
VERSION:2.0
PRODID:-//Midatlantic IRA - ECPv6.15.20//NONSGML v1.0//EN
CALSCALE:GREGORIAN
METHOD:PUBLISH
X-WR-CALNAME:Midatlantic IRA
X-ORIGINAL-URL:https://www.midatlanticira.com
X-WR-CALDESC:Events for Midatlantic IRA
REFRESH-INTERVAL;VALUE=DURATION:PT1H
X-Robots-Tag:noindex
X-PUBLISHED-TTL:PT1H
BEGIN:VTIMEZONE
TZID:America/New_York
BEGIN:DAYLIGHT
TZOFFSETFROM:-0500
TZOFFSETTO:-0400
TZNAME:EDT
DTSTART:20190310T070000
END:DAYLIGHT
BEGIN:STANDARD
TZOFFSETFROM:-0400
TZOFFSETTO:-0500
TZNAME:EST
DTSTART:20191103T060000
END:STANDARD
BEGIN:DAYLIGHT
TZOFFSETFROM:-0500
TZOFFSETTO:-0400
TZNAME:EDT
DTSTART:20200308T070000
END:DAYLIGHT
BEGIN:STANDARD
TZOFFSETFROM:-0400
TZOFFSETTO:-0500
TZNAME:EST
DTSTART:20201101T060000
END:STANDARD
BEGIN:DAYLIGHT
TZOFFSETFROM:-0500
TZOFFSETTO:-0400
TZNAME:EDT
DTSTART:20210314T070000
END:DAYLIGHT
BEGIN:STANDARD
TZOFFSETFROM:-0400
TZOFFSETTO:-0500
TZNAME:EST
DTSTART:20211107T060000
END:STANDARD
END:VTIMEZONE
BEGIN:VEVENT
DTSTART;TZID=America/New_York:20201020T183000
DTEND;TZID=America/New_York:20201020T203000
DTSTAMP:20260422T204534
CREATED:20200518T183342Z
LAST-MODIFIED:20201003T210645Z
UID:321292-1603218600-1603225800@www.midatlanticira.com
SUMMARY:Northern Virginia Strategies Group - Back to Basics
DESCRIPTION:Back to Basics: Self-Directed IRAs\nThis month\, we’ll be discussing how Self-Directed IRAs can save you money and yield a wealth building dividend. Jack will put his CPA hat on and show you how Self-Directed IRAs could help lower your overall tax burden. \nThis month\, we are going to do a little deeper dive into how Self Direction might fit into your wealth building and financial plan. Sophisticated real estate investors have been using Self-Directed IRAs to shelter income and grow wealth for years. \nCome and learn exactly what a Self-Directed IRA is and how people utilize them to acquire real estate\, as well as other alternative investments.
URL:https://www.midatlanticira.com/event/northern-virginia-strategies-group-purchasing-tax-liens-in-your-self-directed-ira/
CATEGORIES:Strategy Groups
END:VEVENT
END:VCALENDAR