BEGIN:VCALENDAR
VERSION:2.0
PRODID:-//Midatlantic IRA - ECPv6.15.20//NONSGML v1.0//EN
CALSCALE:GREGORIAN
METHOD:PUBLISH
X-ORIGINAL-URL:https://www.midatlanticira.com
X-WR-CALDESC:Events for Midatlantic IRA
REFRESH-INTERVAL;VALUE=DURATION:PT1H
X-Robots-Tag:noindex
X-PUBLISHED-TTL:PT1H
BEGIN:VTIMEZONE
TZID:America/New_York
BEGIN:DAYLIGHT
TZOFFSETFROM:-0500
TZOFFSETTO:-0400
TZNAME:EDT
DTSTART:20190310T070000
END:DAYLIGHT
BEGIN:STANDARD
TZOFFSETFROM:-0400
TZOFFSETTO:-0500
TZNAME:EST
DTSTART:20191103T060000
END:STANDARD
BEGIN:DAYLIGHT
TZOFFSETFROM:-0500
TZOFFSETTO:-0400
TZNAME:EDT
DTSTART:20200308T070000
END:DAYLIGHT
BEGIN:STANDARD
TZOFFSETFROM:-0400
TZOFFSETTO:-0500
TZNAME:EST
DTSTART:20201101T060000
END:STANDARD
BEGIN:DAYLIGHT
TZOFFSETFROM:-0500
TZOFFSETTO:-0400
TZNAME:EDT
DTSTART:20210314T070000
END:DAYLIGHT
BEGIN:STANDARD
TZOFFSETFROM:-0400
TZOFFSETTO:-0500
TZNAME:EST
DTSTART:20211107T060000
END:STANDARD
END:VTIMEZONE
BEGIN:VEVENT
DTSTART;TZID=America/New_York:20200922T183000
DTEND;TZID=America/New_York:20200922T203000
DTSTAMP:20260423T013308
CREATED:20200904T160439Z
LAST-MODIFIED:20200904T160439Z
UID:321610-1600799400-1600806600@www.midatlanticira.com
SUMMARY:Baltimore Strategies Group
DESCRIPTION:Self Directed Solo 401k (the I – k) & Other Business Retirement Options\n\nAs we enter the last quarter of the year\, it’s a good time to think about whether your business should add a retirement plan. All businesses from sole proprietors to corporations have retirement plan options. We’ll teach and discuss the options and whether you can self-direct those plans.\n\n\nMidAtlantic IRA\, LLC (https://www.midatlanticira.com/) and The Baltimore REIA (http://www.baltimorereia.com/) invite you to this powerful group of networkers. Don’t miss a great evening of networking. We are not selling at this Meetup\, no books\, no boot-camps\, no CD’s. This is like-minded individuals who want to network to build their real estate business. \nYour net worth is a reflection of your network. \nRegister today.
URL:https://www.midatlanticira.com/event/baltimore-strategies-group/
CATEGORIES:Strategy Groups
END:VEVENT
END:VCALENDAR