BEGIN:VCALENDAR
VERSION:2.0
PRODID:-//Midatlantic IRA - ECPv6.15.20//NONSGML v1.0//EN
CALSCALE:GREGORIAN
METHOD:PUBLISH
X-ORIGINAL-URL:https://www.midatlanticira.com
X-WR-CALDESC:Events for Midatlantic IRA
REFRESH-INTERVAL;VALUE=DURATION:PT1H
X-Robots-Tag:noindex
X-PUBLISHED-TTL:PT1H
BEGIN:VTIMEZONE
TZID:America/New_York
BEGIN:DAYLIGHT
TZOFFSETFROM:-0500
TZOFFSETTO:-0400
TZNAME:EDT
DTSTART:20190310T070000
END:DAYLIGHT
BEGIN:STANDARD
TZOFFSETFROM:-0400
TZOFFSETTO:-0500
TZNAME:EST
DTSTART:20191103T060000
END:STANDARD
BEGIN:DAYLIGHT
TZOFFSETFROM:-0500
TZOFFSETTO:-0400
TZNAME:EDT
DTSTART:20200308T070000
END:DAYLIGHT
BEGIN:STANDARD
TZOFFSETFROM:-0400
TZOFFSETTO:-0500
TZNAME:EST
DTSTART:20201101T060000
END:STANDARD
BEGIN:DAYLIGHT
TZOFFSETFROM:-0500
TZOFFSETTO:-0400
TZNAME:EDT
DTSTART:20210314T070000
END:DAYLIGHT
BEGIN:STANDARD
TZOFFSETFROM:-0400
TZOFFSETTO:-0500
TZNAME:EST
DTSTART:20211107T060000
END:STANDARD
END:VTIMEZONE
BEGIN:VEVENT
DTSTART;TZID=America/New_York:20200728T183000
DTEND;TZID=America/New_York:20200728T203000
DTSTAMP:20260423T044329
CREATED:20200518T181208Z
LAST-MODIFIED:20200715T150433Z
UID:321281-1595961000-1595968200@www.midatlanticira.com
SUMMARY:Baltimore Strategies Group - Partnering with your Self-Directed IRA
DESCRIPTION:Partnering with your Self-Directed IRA \nNot enough personal funds to invest? Not enough money in your IRA to invest? Learn how to ‘pool’ these two groups of capital together to invest properly and avoid the pitfalls. \nIf you are still sitting on the launching pad\, fueled and ready to go but……your countdown has been halted\, we invite you out Tuesday night to get your rocket lit. This meeting is about action right now. Do not wait any longer. Come hear about the things you can do to make your wealth building dreams come true. \nMidAtlantic IRA\, LLC (https://www.midatlanticira.com/) and The Baltimore REIA (http://www.baltimorereia.com/) invite you to this powerful group of networkers. Don’t miss a great evening of networking. We are not selling at this Meetup\, no books\, no boot-camps\, no CD’s. This is like-minded individuals who want to network to build their real estate business. \nThere is no charge for this meeting if you are a member of the Baltimore REIA\, otherwise there is $19.00 charge at the door\, cash only please. You need to buy your own meal. Separate checks are available from the restaurant. \nYour net worth is a reflection of your network.
URL:https://www.midatlanticira.com/event/baltimore-strategies-group-partnering-with-your-self-directed-ira/
CATEGORIES:Strategy Groups
END:VEVENT
END:VCALENDAR