BEGIN:VCALENDAR
VERSION:2.0
PRODID:-//Midatlantic IRA - ECPv6.15.20//NONSGML v1.0//EN
CALSCALE:GREGORIAN
METHOD:PUBLISH
X-ORIGINAL-URL:https://www.midatlanticira.com
X-WR-CALDESC:Events for Midatlantic IRA
REFRESH-INTERVAL;VALUE=DURATION:PT1H
X-Robots-Tag:noindex
X-PUBLISHED-TTL:PT1H
BEGIN:VTIMEZONE
TZID:America/New_York
BEGIN:DAYLIGHT
TZOFFSETFROM:-0500
TZOFFSETTO:-0400
TZNAME:EDT
DTSTART:20190310T070000
END:DAYLIGHT
BEGIN:STANDARD
TZOFFSETFROM:-0400
TZOFFSETTO:-0500
TZNAME:EST
DTSTART:20191103T060000
END:STANDARD
BEGIN:DAYLIGHT
TZOFFSETFROM:-0500
TZOFFSETTO:-0400
TZNAME:EDT
DTSTART:20200308T070000
END:DAYLIGHT
BEGIN:STANDARD
TZOFFSETFROM:-0400
TZOFFSETTO:-0500
TZNAME:EST
DTSTART:20201101T060000
END:STANDARD
BEGIN:DAYLIGHT
TZOFFSETFROM:-0500
TZOFFSETTO:-0400
TZNAME:EDT
DTSTART:20210314T070000
END:DAYLIGHT
BEGIN:STANDARD
TZOFFSETFROM:-0400
TZOFFSETTO:-0500
TZNAME:EST
DTSTART:20211107T060000
END:STANDARD
END:VTIMEZONE
BEGIN:VEVENT
DTSTART;TZID=America/New_York:20200721T183000
DTEND;TZID=America/New_York:20200721T203000
DTSTAMP:20260423T074823
CREATED:20200518T182013Z
LAST-MODIFIED:20200715T150355Z
UID:321278-1595356200-1595363400@www.midatlanticira.com
SUMMARY:Northern Virginia Strategies Group - Partnering with your Self-Directed IRA
DESCRIPTION:Partnering with your Self-Directed IRA\nNot enough personal funds to invest? Not enough money in your IRA to invest? Learn how to ‘pool’ these two groups of capital together to invest properly and avoid the pitfalls. \nCome to our next Investment Strategies Meeting and let Jack Kiley show you why Self-Directed IRAs might be a great source of investing capital. Whether you have a Self-Directed IRA already…you’re thinking about opening one… or you’re just curious… come and explore these potentially powerful strategies! \nAs most of you know\, we don’t charge for this Meetup\, but we do ask that you support our friends at Gordon Biersch Brewery Restaurant.
URL:https://www.midatlanticira.com/event/northern-virginia-strategies-group-partnering-with-your-self-directed-ira/
CATEGORIES:Strategy Groups
END:VEVENT
END:VCALENDAR