BEGIN:VCALENDAR
VERSION:2.0
PRODID:-//Midatlantic IRA - ECPv6.15.20//NONSGML v1.0//EN
CALSCALE:GREGORIAN
METHOD:PUBLISH
X-ORIGINAL-URL:https://www.midatlanticira.com
X-WR-CALDESC:Events for Midatlantic IRA
REFRESH-INTERVAL;VALUE=DURATION:PT1H
X-Robots-Tag:noindex
X-PUBLISHED-TTL:PT1H
BEGIN:VTIMEZONE
TZID:America/Chicago
BEGIN:DAYLIGHT
TZOFFSETFROM:-0600
TZOFFSETTO:-0500
TZNAME:CDT
DTSTART:20190310T080000
END:DAYLIGHT
BEGIN:STANDARD
TZOFFSETFROM:-0500
TZOFFSETTO:-0600
TZNAME:CST
DTSTART:20191103T070000
END:STANDARD
BEGIN:DAYLIGHT
TZOFFSETFROM:-0600
TZOFFSETTO:-0500
TZNAME:CDT
DTSTART:20200308T080000
END:DAYLIGHT
BEGIN:STANDARD
TZOFFSETFROM:-0500
TZOFFSETTO:-0600
TZNAME:CST
DTSTART:20201101T070000
END:STANDARD
BEGIN:DAYLIGHT
TZOFFSETFROM:-0600
TZOFFSETTO:-0500
TZNAME:CDT
DTSTART:20210314T080000
END:DAYLIGHT
BEGIN:STANDARD
TZOFFSETFROM:-0500
TZOFFSETTO:-0600
TZNAME:CST
DTSTART:20211107T070000
END:STANDARD
END:VTIMEZONE
BEGIN:VEVENT
DTSTART;TZID=America/Chicago:20200114T183000
DTEND;TZID=America/Chicago:20200114T203000
DTSTAMP:20260423T213355
CREATED:20200103T205200Z
LAST-MODIFIED:20200103T205200Z
UID:320790-1579026600-1579033800@www.midatlanticira.com
SUMMARY:Meetup: Kansas City\, MO
DESCRIPTION:Self-Directed Retirement Accounts can be a powerful tool\, and sophisticated investors have been using these for years to help grow wealth. Join us and understand what a Self-Directed IRA is and learn the ground rules. \nJack Kiley of MidAtlantic IRA will go over everything you need to know when it comes to Self-Directed IRAs. You’ll learn exactly what a Self-Directed IRA is\, what you can invest in and who you can invest with. \nThis is the first in a series of monthly Investment Strategies Meetings for 2020. Jack has planned a step-by-step educational program for you\, starting with this introductory meeting. So set your calendar now for the third Tuesday of every month. By the end of the year you’ll be well educated — and you could be far wealthier! \nMidAtlantic IRA\, LLC (https://www.midatlanticira.com/) invites you to this powerful group of networkers. Don’t miss a great evening of networking. Remember we are not selling at this Meetup\, no books\, no boot-camps\, no CD’s. This is like minded individuals who want to network to build their real estate business. \nEVERYONE PAYS FOR HIS OR HER OWN MEAL. The restaurant will give you a separate check for your meal. We do not charge for this Meetup\, but we do ask that you support our friends at Minsky’s Pizza Joint.
URL:https://www.midatlanticira.com/event/meetup-kansas-city-mo/
LOCATION:Minsky’s Pizza\, 5105 Main Street\, Kansas City\, MO\, 64112\, United States
CATEGORIES:Strategy Groups
END:VEVENT
END:VCALENDAR