BEGIN:VCALENDAR
VERSION:2.0
PRODID:-//Midatlantic IRA - ECPv6.15.20//NONSGML v1.0//EN
CALSCALE:GREGORIAN
METHOD:PUBLISH
X-ORIGINAL-URL:https://www.midatlanticira.com
X-WR-CALDESC:Events for Midatlantic IRA
REFRESH-INTERVAL;VALUE=DURATION:PT1H
X-Robots-Tag:noindex
X-PUBLISHED-TTL:PT1H
BEGIN:VTIMEZONE
TZID:America/New_York
BEGIN:DAYLIGHT
TZOFFSETFROM:-0500
TZOFFSETTO:-0400
TZNAME:EDT
DTSTART:20180311T070000
END:DAYLIGHT
BEGIN:STANDARD
TZOFFSETFROM:-0400
TZOFFSETTO:-0500
TZNAME:EST
DTSTART:20181104T060000
END:STANDARD
BEGIN:DAYLIGHT
TZOFFSETFROM:-0500
TZOFFSETTO:-0400
TZNAME:EDT
DTSTART:20190310T070000
END:DAYLIGHT
BEGIN:STANDARD
TZOFFSETFROM:-0400
TZOFFSETTO:-0500
TZNAME:EST
DTSTART:20191103T060000
END:STANDARD
BEGIN:DAYLIGHT
TZOFFSETFROM:-0500
TZOFFSETTO:-0400
TZNAME:EDT
DTSTART:20200308T070000
END:DAYLIGHT
BEGIN:STANDARD
TZOFFSETFROM:-0400
TZOFFSETTO:-0500
TZNAME:EST
DTSTART:20201101T060000
END:STANDARD
END:VTIMEZONE
BEGIN:VEVENT
DTSTART;TZID=America/New_York:20191126T183000
DTEND;TZID=America/New_York:20191126T213000
DTSTAMP:20260424T003154
CREATED:20191105T222154Z
LAST-MODIFIED:20191105T222231Z
UID:320595-1574793000-1574803800@www.midatlanticira.com
SUMMARY:Baltimore Meetup - Tax Law Changes for 2019 & 2020
DESCRIPTION:As we enter the last couple of months of the year\, now is the time to do two things: \n1. Take a ‘snap shot’ of where you are so far this year and project the next 60 days. Now is the time to do any last-minute planning to minimize your tax liability.\n2. Start to think about what needs to be done to get off to a fast start in 2020. \nOur November meet up will help you accomplish both.\nWe’ll discuss the tax law changes from last year as well as new legislation and how it will impact you individually\, in your business and in your retirement plan. Understanding your tax position will help you- especially as we enter an election year in 2020. \nLearn what changes are important to you and if you need to do anything to re-position yourself. \nCome understand what potential tax law changes could impact you next year. \nListen to what your peers are doing and discover new opportunities. \nMidAtlantic IRA\, LLC (https://www.midatlanticira.com/) and The Baltimore REIA (http://www.baltimorereia.com/) invite you to this powerful group of networkers. Don’t miss a great evening of networking. We are not selling at this Meetup\, no books\, no boot-camps\, no CD’s. This is like-minded individuals who want to network to build their real estate business. \nThere is no charge for this meeting if you are a member of the Baltimore REIA\, otherwise there is $19.00 charge at the door\, cash only please. You need to buy your own meal. Separate checks are available from the restaurant. \nYour net worth is a reflection of your network. \nRegister today.
URL:https://www.midatlanticira.com/event/baltimore-meetup-tax-law-changes-for-2019-2020/
LOCATION:Ocean Pride Restaurant & Carry out\, 1534 York Road\, Lutherville\, MD\, 21093\, United States
CATEGORIES:Strategy Groups
END:VEVENT
END:VCALENDAR