BEGIN:VCALENDAR
VERSION:2.0
PRODID:-//Midatlantic IRA - ECPv6.15.20//NONSGML v1.0//EN
CALSCALE:GREGORIAN
METHOD:PUBLISH
X-ORIGINAL-URL:https://www.midatlanticira.com
X-WR-CALDESC:Events for Midatlantic IRA
REFRESH-INTERVAL;VALUE=DURATION:PT1H
X-Robots-Tag:noindex
X-PUBLISHED-TTL:PT1H
BEGIN:VTIMEZONE
TZID:America/North_Dakota/Center
BEGIN:DAYLIGHT
TZOFFSETFROM:-0600
TZOFFSETTO:-0500
TZNAME:CDT
DTSTART:20180311T080000
END:DAYLIGHT
BEGIN:STANDARD
TZOFFSETFROM:-0500
TZOFFSETTO:-0600
TZNAME:CST
DTSTART:20181104T070000
END:STANDARD
BEGIN:DAYLIGHT
TZOFFSETFROM:-0600
TZOFFSETTO:-0500
TZNAME:CDT
DTSTART:20190310T080000
END:DAYLIGHT
BEGIN:STANDARD
TZOFFSETFROM:-0500
TZOFFSETTO:-0600
TZNAME:CST
DTSTART:20191103T070000
END:STANDARD
BEGIN:DAYLIGHT
TZOFFSETFROM:-0600
TZOFFSETTO:-0500
TZNAME:CDT
DTSTART:20200308T080000
END:DAYLIGHT
BEGIN:STANDARD
TZOFFSETFROM:-0500
TZOFFSETTO:-0600
TZNAME:CST
DTSTART:20201101T070000
END:STANDARD
END:VTIMEZONE
BEGIN:VEVENT
DTSTART;TZID=America/North_Dakota/Center:20191119T183000
DTEND;TZID=America/North_Dakota/Center:20191119T213000
DTSTAMP:20260424T003155
CREATED:20191105T220656Z
LAST-MODIFIED:20191105T221658Z
UID:320589-1574188200-1574199000@www.midatlanticira.com
SUMMARY:Kansas City Meetup - Tax Law Changes for 2019 & 2020
DESCRIPTION:As we enter the last couple of months of the year\, now is the time to do two things: \n1. Take a ‘snap shot’ of where you are so far this year and project the next 60 days. Now is the time to do any last-minute planning to minimize your tax liability.\n2. Start to think about what needs to be done to get off to a fast start in 2020. \nOur November meet up will help you accomplish both.\nWe’ll discuss the tax law changes from last year as well as new legislation and how it will impact you individually\, in your business and in your retirement plan. Understanding your tax position will help you- especially as we enter an election year in 2020. \nLearn what changes are important to you and if you need to do anything to re-position yourself. \nCome understand what potential tax law changes could impact you next year. \nListen to what your peers are doing and discover new opportunities. \nWe hope to see you in November!!
URL:https://www.midatlanticira.com/event/kansas-city-meetup-tax-law-changes-for-2019-2020/
LOCATION:Minsky’s Pizza\, 5105 Main Street\, Kansas City\, MO\, 64112\, United States
CATEGORIES:Strategy Groups
END:VEVENT
END:VCALENDAR