BEGIN:VCALENDAR
VERSION:2.0
PRODID:-//Midatlantic IRA - ECPv6.15.20//NONSGML v1.0//EN
CALSCALE:GREGORIAN
METHOD:PUBLISH
X-ORIGINAL-URL:https://www.midatlanticira.com
X-WR-CALDESC:Events for Midatlantic IRA
REFRESH-INTERVAL;VALUE=DURATION:PT1H
X-Robots-Tag:noindex
X-PUBLISHED-TTL:PT1H
BEGIN:VTIMEZONE
TZID:America/New_York
BEGIN:DAYLIGHT
TZOFFSETFROM:-0500
TZOFFSETTO:-0400
TZNAME:EDT
DTSTART:20180311T070000
END:DAYLIGHT
BEGIN:STANDARD
TZOFFSETFROM:-0400
TZOFFSETTO:-0500
TZNAME:EST
DTSTART:20181104T060000
END:STANDARD
BEGIN:DAYLIGHT
TZOFFSETFROM:-0500
TZOFFSETTO:-0400
TZNAME:EDT
DTSTART:20190310T070000
END:DAYLIGHT
BEGIN:STANDARD
TZOFFSETFROM:-0400
TZOFFSETTO:-0500
TZNAME:EST
DTSTART:20191103T060000
END:STANDARD
BEGIN:DAYLIGHT
TZOFFSETFROM:-0500
TZOFFSETTO:-0400
TZNAME:EDT
DTSTART:20200308T070000
END:DAYLIGHT
BEGIN:STANDARD
TZOFFSETFROM:-0400
TZOFFSETTO:-0500
TZNAME:EST
DTSTART:20201101T060000
END:STANDARD
END:VTIMEZONE
BEGIN:VEVENT
DTSTART;TZID=America/New_York:20190326T183000
DTEND;TZID=America/New_York:20190326T213000
DTSTAMP:20260424T235417
CREATED:20190314T235919Z
LAST-MODIFIED:20190314T235919Z
UID:320265-1553625000-1553635800@www.midatlanticira.com
SUMMARY:Baltimore Meetup - Note Investing & Private Lending with Jack Kiley
DESCRIPTION:More and more investors are buying notes\, so why not do it with a self-directed IRA? You can do private lending with your IRA\, too. \nAt our next Strategies IRA Meeting\, Jack Kiley of MidAtlantic IRA will show you how an IRA could help you add the power of tax advantages to these strategies. \nImagine earning a generous return from notes… or lending money at the high rates typical of hard-money lenders… and saving on taxes\, too! \n(HINT: Even if you don’t have money to lend from your IRA\, knowing how is a good thing. Because you can invite others to lend to you from their self-directed IRAs — or open such an IRA precisely to lend you money.) \nWhether you have a self-directed IRA now or not yet\, join us and learn how to put this powerful tool to work for you. \nThere is no charge for this meeting if you are a member of the Baltimore REIA\, otherwise there is $19 charge at the door\, cash only please. You need to buy your own meal. Separate checks are available from the restaurant. \nYour net worth is a reflection of your network. \nRegister today.
URL:https://www.midatlanticira.com/event/baltimore-meetup-note-investing-private-lending-with-jack-kiley/
LOCATION:Ocean Pride Restaurant & Carry out\, 1534 York Road\, Lutherville\, MD\, 21093\, United States
CATEGORIES:Strategy Groups
END:VEVENT
END:VCALENDAR