BEGIN:VCALENDAR
VERSION:2.0
PRODID:-//Midatlantic IRA - ECPv6.15.20//NONSGML v1.0//EN
CALSCALE:GREGORIAN
METHOD:PUBLISH
X-ORIGINAL-URL:https://www.midatlanticira.com
X-WR-CALDESC:Events for Midatlantic IRA
REFRESH-INTERVAL;VALUE=DURATION:PT1H
X-Robots-Tag:noindex
X-PUBLISHED-TTL:PT1H
BEGIN:VTIMEZONE
TZID:America/New_York
BEGIN:DAYLIGHT
TZOFFSETFROM:-0500
TZOFFSETTO:-0400
TZNAME:EDT
DTSTART:20220313T070000
END:DAYLIGHT
BEGIN:STANDARD
TZOFFSETFROM:-0400
TZOFFSETTO:-0500
TZNAME:EST
DTSTART:20221106T060000
END:STANDARD
BEGIN:DAYLIGHT
TZOFFSETFROM:-0500
TZOFFSETTO:-0400
TZNAME:EDT
DTSTART:20230312T070000
END:DAYLIGHT
BEGIN:STANDARD
TZOFFSETFROM:-0400
TZOFFSETTO:-0500
TZNAME:EST
DTSTART:20231105T060000
END:STANDARD
BEGIN:DAYLIGHT
TZOFFSETFROM:-0500
TZOFFSETTO:-0400
TZNAME:EDT
DTSTART:20240310T070000
END:DAYLIGHT
BEGIN:STANDARD
TZOFFSETFROM:-0400
TZOFFSETTO:-0500
TZNAME:EST
DTSTART:20241103T060000
END:STANDARD
END:VTIMEZONE
BEGIN:VEVENT
DTSTART;TZID=America/New_York:20230406T183000
DTEND;TZID=America/New_York:20230406T200000
DTSTAMP:20260419T230638
CREATED:20230112T215358Z
LAST-MODIFIED:20230112T215358Z
UID:323341-1680805800-1680811200@www.midatlanticira.com
SUMMARY:Virginia Beach Strategies Group
DESCRIPTION:The Power of Leverage\nHave you ever borrowed money for real estate investing personally or with a business entity? Good news: your IRA can do the same! \nSavvy investors know the power of leverage. At our next Strategies Group Meeting\, Jack Kiley\, CPA\, CISP of MidAtlantic IRA will show you how to borrow money and apply leverage within your self-directed IRA. \nImportant: You must follow the rules to avoid trouble with the IRS. Jack will show you the correct\, legal way. \nWhether you have a self-directed IRA now or not yet\, join us and learn how to put this powerful tool to work for you.
URL:https://www.midatlanticira.com/event/virginia-beach-strategies-group-8/
CATEGORIES:Strategy Groups
END:VEVENT
BEGIN:VEVENT
DTSTART;TZID=America/New_York:20230411T183000
DTEND;TZID=America/New_York:20230411T200000
DTSTAMP:20260419T230638
CREATED:20230112T215615Z
LAST-MODIFIED:20230112T215615Z
UID:323343-1681237800-1681243200@www.midatlanticira.com
SUMMARY:Northern Virginia Strategies Group
DESCRIPTION:The Power of Leverage\nHave you ever borrowed money for real estate investing personally or with a business entity? Good news: your IRA can do the same! \nSavvy investors know the power of leverage. At our next Strategies Group Meeting\, Jack Kiley\, CPA\, CISP of MidAtlantic IRA will show you how to borrow money and apply leverage within your self-directed IRA. \nImportant: You must follow the rules to avoid trouble with the IRS. Jack will show you the correct\, legal way. \nWhether you have a self-directed IRA now or not yet\, join us and learn how to put this powerful tool to work for you.
URL:https://www.midatlanticira.com/event/northern-virginia-strategies-group-19/
CATEGORIES:Strategy Groups
END:VEVENT
BEGIN:VEVENT
DTSTART;TZID=America/New_York:20230425T183000
DTEND;TZID=America/New_York:20230425T200000
DTSTAMP:20260419T230638
CREATED:20230112T215936Z
LAST-MODIFIED:20230112T215936Z
UID:323347-1682447400-1682452800@www.midatlanticira.com
SUMMARY:Baltimore Strategies Group
DESCRIPTION:The Power of Leverage\nHave you ever borrowed money for real estate investing personally or with a business entity? Good news: your IRA can do the same! \nSavvy investors know the power of leverage. At our next Strategies Group Meeting\, Jack Kiley\, CPA\, CISP of MidAtlantic IRA will show you how to borrow money and apply leverage within your self-directed IRA. \nImportant: You must follow the rules to avoid trouble with the IRS. Jack will show you the correct\, legal way. \nWhether you have a self-directed IRA now or not yet\, join us and learn how to put this powerful tool to work for you.
URL:https://www.midatlanticira.com/event/baltimore-strategies-group-17/
CATEGORIES:Strategy Groups
END:VEVENT
BEGIN:VEVENT
DTSTART;TZID=America/New_York:20230427T183000
DTEND;TZID=America/New_York:20230427T200000
DTSTAMP:20260419T230638
CREATED:20230329T182012Z
LAST-MODIFIED:20230329T182406Z
UID:323477-1682620200-1682625600@www.midatlanticira.com
SUMMARY:Clients Only Strategies Group
DESCRIPTION:As a valued MidAtantic IRA Client\, we are inviting you to join our virtual Online Strategies Group hosted via Zoom. \nAt these meetings\, Clients will have the opportunity to network and share investment strategies with one another\, as well as ask questions regarding retirement investing. \nMeet like-minded individuals and expand your knowledge in the field of retirement investing. Hope to see you there! \n  \nIf you’re interested in attending this event\, please email Sioban at hello@midatlanticira.com \n 
URL:https://www.midatlanticira.com/event/clients-only-strategies-group-6/
CATEGORIES:Strategy Groups
END:VEVENT
END:VCALENDAR