BEGIN:VCALENDAR
VERSION:2.0
PRODID:-//Midatlantic IRA - ECPv6.15.20//NONSGML v1.0//EN
CALSCALE:GREGORIAN
METHOD:PUBLISH
X-WR-CALNAME:Midatlantic IRA
X-ORIGINAL-URL:https://www.midatlanticira.com
X-WR-CALDESC:Events for Midatlantic IRA
REFRESH-INTERVAL;VALUE=DURATION:PT1H
X-Robots-Tag:noindex
X-PUBLISHED-TTL:PT1H
BEGIN:VTIMEZONE
TZID:America/New_York
BEGIN:DAYLIGHT
TZOFFSETFROM:-0500
TZOFFSETTO:-0400
TZNAME:EDT
DTSTART:20220313T070000
END:DAYLIGHT
BEGIN:STANDARD
TZOFFSETFROM:-0400
TZOFFSETTO:-0500
TZNAME:EST
DTSTART:20221106T060000
END:STANDARD
BEGIN:DAYLIGHT
TZOFFSETFROM:-0500
TZOFFSETTO:-0400
TZNAME:EDT
DTSTART:20230312T070000
END:DAYLIGHT
BEGIN:STANDARD
TZOFFSETFROM:-0400
TZOFFSETTO:-0500
TZNAME:EST
DTSTART:20231105T060000
END:STANDARD
BEGIN:DAYLIGHT
TZOFFSETFROM:-0500
TZOFFSETTO:-0400
TZNAME:EDT
DTSTART:20240310T070000
END:DAYLIGHT
BEGIN:STANDARD
TZOFFSETFROM:-0400
TZOFFSETTO:-0500
TZNAME:EST
DTSTART:20241103T060000
END:STANDARD
END:VTIMEZONE
BEGIN:VEVENT
DTSTART;TZID=America/New_York:20230309T183000
DTEND;TZID=America/New_York:20230309T200000
DTSTAMP:20260420T021425
CREATED:20230112T214319Z
LAST-MODIFIED:20230303T184230Z
UID:323333-1678386600-1678392000@www.midatlanticira.com
SUMMARY:Virginia Beach Strategies Group
DESCRIPTION:Note Investing & Private Lending from a Self-Directed IRA\nMore and more investors are buying notes\, so why not do it with a self-directed IRA? You can do private lending with your IRA\, too. \nAt our next Strategies Group Meeting\, Jack Kiley\, CPA\, CISP of MidAtlantic IRA will show you how an IRA could help you add the power of tax advantages to these strategies. \nImagine earning a generous return from notes or lending money at the high rates typical of hard-money lenders\, AND saving on taxes too!
URL:https://www.midatlanticira.com/event/virginia-beach-strategies-group-7/
CATEGORIES:Strategy Groups
END:VEVENT
BEGIN:VEVENT
DTSTART;TZID=America/New_York:20230316T183000
DTEND;TZID=America/New_York:20230316T200000
DTSTAMP:20260420T021425
CREATED:20230303T184733Z
LAST-MODIFIED:20230303T184733Z
UID:323461-1678991400-1678996800@www.midatlanticira.com
SUMMARY:Clients Only Strategies Group
DESCRIPTION:At these meetings\, Clients will have the opportunity to network and share investment strategies with one another\, as well as ask questions regarding retirement investing. \nMeet like-minded individuals and expand your knowledge in the field of retirement investing. \nIf you are a MidAtlantic IRA Client and interested in attending this meeting\, please email us at hello@midatlanticira.com for the Zoom Link.
URL:https://www.midatlanticira.com/event/clients-only-strategies-group-5/
CATEGORIES:Strategy Groups
END:VEVENT
BEGIN:VEVENT
DTSTART;TZID=America/New_York:20230321T183000
DTEND;TZID=America/New_York:20230321T200000
DTSTAMP:20260420T021425
CREATED:20230112T214628Z
LAST-MODIFIED:20230112T214628Z
UID:323337-1679423400-1679428800@www.midatlanticira.com
SUMMARY:Northern Virginia Strategies Group
DESCRIPTION:Note Investing & Private Lending from a Self-Directed IRA\nMore and more investors are buying notes\, so why not do it with a self-directed IRA? You can do private lending with your IRA\, too. \nAt our next Strategies Group Meeting\, Jack Kiley\, CPA\, CISP of MidAtlantic IRA will show you how an IRA could help you add the power of tax advantages to these strategies. \nImagine earning a generous return from notes or lending money at the high rates typical of hard-money lenders\, AND saving on taxes too!
URL:https://www.midatlanticira.com/event/northern-virginia-strategies-group-18/
CATEGORIES:Strategy Groups
END:VEVENT
BEGIN:VEVENT
DTSTART;TZID=America/New_York:20230328T183000
DTEND;TZID=America/New_York:20230328T200000
DTSTAMP:20260420T021425
CREATED:20230112T214757Z
LAST-MODIFIED:20230112T214757Z
UID:323339-1680028200-1680033600@www.midatlanticira.com
SUMMARY:Baltimore Strategies Group
DESCRIPTION:Note Investing & Private Lending from a Self-Directed IRA\nMore and more investors are buying notes\, so why not do it with a self-directed IRA? You can do private lending with your IRA\, too. \nAt our next Strategies Group Meeting\, Jack Kiley\, CPA\, CISP of MidAtlantic IRA will show you how an IRA could help you add the power of tax advantages to these strategies. \nImagine earning a generous return from notes or lending money at the high rates typical of hard-money lenders\, AND saving on taxes too!
URL:https://www.midatlanticira.com/event/baltimore-strategies-group-16/
CATEGORIES:Strategy Groups
END:VEVENT
END:VCALENDAR