BEGIN:VCALENDAR
VERSION:2.0
PRODID:-//Midatlantic IRA - ECPv6.15.20//NONSGML v1.0//EN
CALSCALE:GREGORIAN
METHOD:PUBLISH
X-ORIGINAL-URL:https://www.midatlanticira.com
X-WR-CALDESC:Events for Midatlantic IRA
REFRESH-INTERVAL;VALUE=DURATION:PT1H
X-Robots-Tag:noindex
X-PUBLISHED-TTL:PT1H
BEGIN:VTIMEZONE
TZID:America/New_York
BEGIN:DAYLIGHT
TZOFFSETFROM:-0500
TZOFFSETTO:-0400
TZNAME:EDT
DTSTART:20220313T070000
END:DAYLIGHT
BEGIN:STANDARD
TZOFFSETFROM:-0400
TZOFFSETTO:-0500
TZNAME:EST
DTSTART:20221106T060000
END:STANDARD
BEGIN:DAYLIGHT
TZOFFSETFROM:-0500
TZOFFSETTO:-0400
TZNAME:EDT
DTSTART:20230312T070000
END:DAYLIGHT
BEGIN:STANDARD
TZOFFSETFROM:-0400
TZOFFSETTO:-0500
TZNAME:EST
DTSTART:20231105T060000
END:STANDARD
BEGIN:DAYLIGHT
TZOFFSETFROM:-0500
TZOFFSETTO:-0400
TZNAME:EDT
DTSTART:20240310T070000
END:DAYLIGHT
BEGIN:STANDARD
TZOFFSETFROM:-0400
TZOFFSETTO:-0500
TZNAME:EST
DTSTART:20241103T060000
END:STANDARD
END:VTIMEZONE
BEGIN:VTIMEZONE
TZID:America/North_Dakota/Center
BEGIN:DAYLIGHT
TZOFFSETFROM:-0600
TZOFFSETTO:-0500
TZNAME:CDT
DTSTART:20220313T080000
END:DAYLIGHT
BEGIN:STANDARD
TZOFFSETFROM:-0500
TZOFFSETTO:-0600
TZNAME:CST
DTSTART:20221106T070000
END:STANDARD
BEGIN:DAYLIGHT
TZOFFSETFROM:-0600
TZOFFSETTO:-0500
TZNAME:CDT
DTSTART:20230312T080000
END:DAYLIGHT
BEGIN:STANDARD
TZOFFSETFROM:-0500
TZOFFSETTO:-0600
TZNAME:CST
DTSTART:20231105T070000
END:STANDARD
BEGIN:DAYLIGHT
TZOFFSETFROM:-0600
TZOFFSETTO:-0500
TZNAME:CDT
DTSTART:20240310T080000
END:DAYLIGHT
BEGIN:STANDARD
TZOFFSETFROM:-0500
TZOFFSETTO:-0600
TZNAME:CST
DTSTART:20241103T070000
END:STANDARD
END:VTIMEZONE
BEGIN:VEVENT
DTSTART;TZID=America/New_York:20230202T183000
DTEND;TZID=America/New_York:20230202T200000
DTSTAMP:20260420T022148
CREATED:20230112T211940Z
LAST-MODIFIED:20230112T211940Z
UID:323322-1675362600-1675368000@www.midatlanticira.com
SUMMARY:Virginia Beach Strategies Group
DESCRIPTION:Real Estate Investing with Your Self-Directed IRA\nWhat’s your real estate investing strategy? Wholesaling? Rehabbing? Buy-and-hold? You can use a self-directed IRA with virtually all strategies to help you reap profits plus tax advantages. \nAt our next Strategies Group meeting\, Jack Kiley\, CPA\, CISP of MidAtlantic IRA will take a closer look at the many ways an IRA could enhance your real estate investing. \nWhether you have a self-directed IRA now or not yet\, join us and learn how this powerful financial tool could work for you.
URL:https://www.midatlanticira.com/event/virginia-beach-strategies-group-6/
CATEGORIES:Strategy Groups
END:VEVENT
BEGIN:VEVENT
DTSTART;TZID=America/North_Dakota/Center:20230209T183000
DTEND;TZID=America/North_Dakota/Center:20230209T200000
DTSTAMP:20260420T022148
CREATED:20230112T212600Z
LAST-MODIFIED:20230112T221156Z
UID:323327-1675967400-1675972800@www.midatlanticira.com
SUMMARY:Kansas City Strategies Group
DESCRIPTION:Real Estate Investing with Your Self-Directed IRA\nWhat’s your real estate investing strategy? Wholesaling? Rehabbing? Buy-and-hold? You can use a self-directed IRA with virtually all strategies to help you reap profits plus tax advantages. \nAt our next Strategies Group meeting\, Jack Kiley\, CPA\, CISP of MidAtlantic IRA will take a closer look at the many ways an IRA could enhance your real estate investing. \nWhether you have a self-directed IRA now or not yet\, join us and learn how this powerful financial tool could work for you.
URL:https://www.midatlanticira.com/event/kansas-city-strategies-group-18/
CATEGORIES:Strategy Groups
END:VEVENT
BEGIN:VEVENT
DTSTART;TZID=America/New_York:20230221T183000
DTEND;TZID=America/New_York:20230221T200000
DTSTAMP:20260420T022148
CREATED:20230112T212806Z
LAST-MODIFIED:20230112T212806Z
UID:323329-1677004200-1677009600@www.midatlanticira.com
SUMMARY:Northern Virginia Strategies Group
DESCRIPTION:Real Estate Investing with Your Self-Directed IRA\nWhat’s your real estate investing strategy? Wholesaling? Rehabbing? Buy-and-hold? You can use a self-directed IRA with virtually all strategies to help you reap profits plus tax advantages. \nAt our next Strategies Group meeting\, Jack Kiley\, CPA\, CISP of MidAtlantic IRA will take a closer look at the many ways an IRA could enhance your real estate investing. \nWhether you have a self-directed IRA now or not yet\, join us and learn how this powerful financial tool could work for you.
URL:https://www.midatlanticira.com/event/northern-virginia-strategies-group-17/
CATEGORIES:Strategy Groups
END:VEVENT
BEGIN:VEVENT
DTSTART;TZID=America/New_York:20230228T183000
DTEND;TZID=America/New_York:20230228T200000
DTSTAMP:20260420T022148
CREATED:20230112T213029Z
LAST-MODIFIED:20230112T213029Z
UID:323331-1677609000-1677614400@www.midatlanticira.com
SUMMARY:Baltimore Strategies Group
DESCRIPTION:Real Estate Investing with Your Self-Directed IRA\nWhat’s your real estate investing strategy? Wholesaling? Rehabbing? Buy-and-hold? You can use a self-directed IRA with virtually all strategies to help you reap profits plus tax advantages. \nAt our next Strategies Group meeting\, Jack Kiley\, CPA\, CISP of MidAtlantic IRA will take a closer look at the many ways an IRA could enhance your real estate investing. \nWhether you have a self-directed IRA now or not yet\, join us and learn how this powerful financial tool could work for you.
URL:https://www.midatlanticira.com/event/baltimore-strategies-group-15/
CATEGORIES:Strategy Groups
END:VEVENT
END:VCALENDAR