BEGIN:VCALENDAR
VERSION:2.0
PRODID:-//Midatlantic IRA - ECPv6.15.20//NONSGML v1.0//EN
CALSCALE:GREGORIAN
METHOD:PUBLISH
X-WR-CALNAME:Midatlantic IRA
X-ORIGINAL-URL:https://www.midatlanticira.com
X-WR-CALDESC:Events for Midatlantic IRA
REFRESH-INTERVAL;VALUE=DURATION:PT1H
X-Robots-Tag:noindex
X-PUBLISHED-TTL:PT1H
BEGIN:VTIMEZONE
TZID:America/New_York
BEGIN:DAYLIGHT
TZOFFSETFROM:-0500
TZOFFSETTO:-0400
TZNAME:EDT
DTSTART:20210314T070000
END:DAYLIGHT
BEGIN:STANDARD
TZOFFSETFROM:-0400
TZOFFSETTO:-0500
TZNAME:EST
DTSTART:20211107T060000
END:STANDARD
BEGIN:DAYLIGHT
TZOFFSETFROM:-0500
TZOFFSETTO:-0400
TZNAME:EDT
DTSTART:20220313T070000
END:DAYLIGHT
BEGIN:STANDARD
TZOFFSETFROM:-0400
TZOFFSETTO:-0500
TZNAME:EST
DTSTART:20221106T060000
END:STANDARD
BEGIN:DAYLIGHT
TZOFFSETFROM:-0500
TZOFFSETTO:-0400
TZNAME:EDT
DTSTART:20230312T070000
END:DAYLIGHT
BEGIN:STANDARD
TZOFFSETFROM:-0400
TZOFFSETTO:-0500
TZNAME:EST
DTSTART:20231105T060000
END:STANDARD
END:VTIMEZONE
BEGIN:VTIMEZONE
TZID:America/Detroit
BEGIN:DAYLIGHT
TZOFFSETFROM:-0500
TZOFFSETTO:-0400
TZNAME:EDT
DTSTART:20210314T070000
END:DAYLIGHT
BEGIN:STANDARD
TZOFFSETFROM:-0400
TZOFFSETTO:-0500
TZNAME:EST
DTSTART:20211107T060000
END:STANDARD
BEGIN:DAYLIGHT
TZOFFSETFROM:-0500
TZOFFSETTO:-0400
TZNAME:EDT
DTSTART:20220313T070000
END:DAYLIGHT
BEGIN:STANDARD
TZOFFSETFROM:-0400
TZOFFSETTO:-0500
TZNAME:EST
DTSTART:20221106T060000
END:STANDARD
BEGIN:DAYLIGHT
TZOFFSETFROM:-0500
TZOFFSETTO:-0400
TZNAME:EDT
DTSTART:20230312T070000
END:DAYLIGHT
BEGIN:STANDARD
TZOFFSETFROM:-0400
TZOFFSETTO:-0500
TZNAME:EST
DTSTART:20231105T060000
END:STANDARD
END:VTIMEZONE
BEGIN:VEVENT
DTSTART;TZID=America/New_York:20221103T183000
DTEND;TZID=America/New_York:20221103T200000
DTSTAMP:20260420T072930
CREATED:20221102T224630Z
LAST-MODIFIED:20221102T224630Z
UID:323189-1667500200-1667505600@www.midatlanticira.com
SUMMARY:Virginia Beach Strategies Group
DESCRIPTION:Tax Law Changes for 2022 & 2023\nAs we enter the last couple of months of the year\, now is the time to do two things: \n\nTake a ‘snap shot’ of where you are so far this year and project the next 60 days. Now is the time to do any last-minute planning to minimize your tax liability.\nStart to think about what needs to be done to get off to a fast start in 2023.\n\nOur November meet up will help you accomplish both. We’ll discuss the tax law changes from last year as well as new legislation and how it will impact you individually\, in your business and in your retirement plan.\nLearn what changes are important to you and if you need to do anything to re-position yourself. Come understand what potential tax law changes could impact you next year. Listen to what your peers are doing and discover new opportunities.
URL:https://www.midatlanticira.com/event/virginia-beach-strategies-group-5/
CATEGORIES:Strategy Groups
END:VEVENT
BEGIN:VEVENT
DTSTART;TZID=America/Detroit:20221110T183000
DTEND;TZID=America/Detroit:20221110T200000
DTSTAMP:20260420T072930
CREATED:20221102T224752Z
LAST-MODIFIED:20221102T224752Z
UID:323191-1668105000-1668110400@www.midatlanticira.com
SUMMARY:Kansas City Strategies Group
DESCRIPTION:Tax Law Changes for 2022 & 2023\nAs we enter the last couple of months of the year\, now is the time to do two things: \n\nTake a ‘snap shot’ of where you are so far this year and project the next 60 days. Now is the time to do any last-minute planning to minimize your tax liability.\nStart to think about what needs to be done to get off to a fast start in 2023.\n\nOur November meet up will help you accomplish both. We’ll discuss the tax law changes from last year as well as new legislation and how it will impact you individually\, in your business and in your retirement plan. \n\nLearn what changes are important to you and if you need to do anything to re-position yourself. Come understand what potential tax law changes could impact you next year. Listen to what your peers are doing and discover new opportunities.
URL:https://www.midatlanticira.com/event/kansas-city-strategies-group-16/
CATEGORIES:Strategy Groups
END:VEVENT
BEGIN:VEVENT
DTSTART;TZID=America/New_York:20221115T183000
DTEND;TZID=America/New_York:20221115T200000
DTSTAMP:20260420T072930
CREATED:20221102T224938Z
LAST-MODIFIED:20221102T225205Z
UID:323193-1668537000-1668542400@www.midatlanticira.com
SUMMARY:Northern Virginia Strategies Group
DESCRIPTION:Tax Law Changes for 2022 & 2023\nAs we enter the last couple of months of the year\, now is the time to do two things: \n\nTake a ‘snap shot’ of where you are so far this year and project the next 60 days. Now is the time to do any last-minute planning to minimize your tax liability.\nStart to think about what needs to be done to get off to a fast start in 2023.\n\nOur November meet up will help you accomplish both. We’ll discuss the tax law changes from last year as well as new legislation and how it will impact you individually\, in your business and in your retirement plan. \nLearn what changes are important to you and if you need to do anything to re-position yourself. Come understand what potential tax law changes could impact you next year. Listen to what your peers are doing and discover new opportunities.
URL:https://www.midatlanticira.com/event/northern-virginia-strategies-group-15/
CATEGORIES:Strategy Groups
END:VEVENT
BEGIN:VEVENT
DTSTART;TZID=America/New_York:20221117T183000
DTEND;TZID=America/New_York:20221117T200000
DTSTAMP:20260420T072930
CREATED:20221102T230602Z
LAST-MODIFIED:20221102T230602Z
UID:323199-1668709800-1668715200@www.midatlanticira.com
SUMMARY:Clients Only Strategy Group
DESCRIPTION:Purchasing Tax Liens in a Self-Directed IRA\nA self-directed IRA gives you great flexibility — for example\, to invest in tax liens. Would they be a good fit for your IRA? Many jurisdictions are having “tax sales” this time of year\, so now is the time to get smart about them. Jack Kiley of MidAtlantic IRA will help you understand: \n•The basics of tax liens — what they are\, how they work\n•Strategies for successful tax lien investing\n•How to make tax liens part of your IRA portfolio \nYou’ll also hear from investors who have reaped the rewards of tax liens with their self-directed IRAs.
URL:https://www.midatlanticira.com/event/clients-only-strategy-group-2/
CATEGORIES:Strategy Groups
END:VEVENT
BEGIN:VEVENT
DTSTART;TZID=America/New_York:20221122T183000
DTEND;TZID=America/New_York:20221122T200000
DTSTAMP:20260420T072930
CREATED:20221102T230250Z
LAST-MODIFIED:20221102T231757Z
UID:323197-1669141800-1669147200@www.midatlanticira.com
SUMMARY:Baltimore Strategies Group
DESCRIPTION:Tax Law Changes for 2022 & 2022\nAs we enter the last couple of months of the year\, now is the time to do two things: \n\nTake a ‘snap shot’ of where you are so far this year and project the next 60 days. Now is the time to do any last-minute planning to minimize your tax liability.\nStart to think about what needs to be done to get off to a fast start in 2023.\n\nOur November meet up will help you accomplish both. We’ll discuss the tax law changes from last year as well as new legislation and how it will impact you individually\, in your business and in your retirement plan. \nLearn what changes are important to you and if you need to do anything to re-position yourself. Come understand what potential tax law changes could impact you next year. Listen to what your peers are doing and discover new opportunities.
URL:https://www.midatlanticira.com/event/baltimore-strategies-group-13/
CATEGORIES:Strategy Groups
END:VEVENT
END:VCALENDAR