BEGIN:VCALENDAR
VERSION:2.0
PRODID:-//Midatlantic IRA - ECPv6.15.20//NONSGML v1.0//EN
CALSCALE:GREGORIAN
METHOD:PUBLISH
X-ORIGINAL-URL:https://www.midatlanticira.com
X-WR-CALDESC:Events for Midatlantic IRA
REFRESH-INTERVAL;VALUE=DURATION:PT1H
X-Robots-Tag:noindex
X-PUBLISHED-TTL:PT1H
BEGIN:VTIMEZONE
TZID:America/New_York
BEGIN:DAYLIGHT
TZOFFSETFROM:-0500
TZOFFSETTO:-0400
TZNAME:EDT
DTSTART:20210314T070000
END:DAYLIGHT
BEGIN:STANDARD
TZOFFSETFROM:-0400
TZOFFSETTO:-0500
TZNAME:EST
DTSTART:20211107T060000
END:STANDARD
BEGIN:DAYLIGHT
TZOFFSETFROM:-0500
TZOFFSETTO:-0400
TZNAME:EDT
DTSTART:20220313T070000
END:DAYLIGHT
BEGIN:STANDARD
TZOFFSETFROM:-0400
TZOFFSETTO:-0500
TZNAME:EST
DTSTART:20221106T060000
END:STANDARD
BEGIN:DAYLIGHT
TZOFFSETFROM:-0500
TZOFFSETTO:-0400
TZNAME:EDT
DTSTART:20230312T070000
END:DAYLIGHT
BEGIN:STANDARD
TZOFFSETFROM:-0400
TZOFFSETTO:-0500
TZNAME:EST
DTSTART:20231105T060000
END:STANDARD
END:VTIMEZONE
BEGIN:VTIMEZONE
TZID:America/North_Dakota/Center
BEGIN:DAYLIGHT
TZOFFSETFROM:-0600
TZOFFSETTO:-0500
TZNAME:CDT
DTSTART:20210314T080000
END:DAYLIGHT
BEGIN:STANDARD
TZOFFSETFROM:-0500
TZOFFSETTO:-0600
TZNAME:CST
DTSTART:20211107T070000
END:STANDARD
BEGIN:DAYLIGHT
TZOFFSETFROM:-0600
TZOFFSETTO:-0500
TZNAME:CDT
DTSTART:20220313T080000
END:DAYLIGHT
BEGIN:STANDARD
TZOFFSETFROM:-0500
TZOFFSETTO:-0600
TZNAME:CST
DTSTART:20221106T070000
END:STANDARD
BEGIN:DAYLIGHT
TZOFFSETFROM:-0600
TZOFFSETTO:-0500
TZNAME:CDT
DTSTART:20230312T080000
END:DAYLIGHT
BEGIN:STANDARD
TZOFFSETFROM:-0500
TZOFFSETTO:-0600
TZNAME:CST
DTSTART:20231105T070000
END:STANDARD
END:VTIMEZONE
BEGIN:VEVENT
DTSTART;TZID=America/New_York:20221006T183000
DTEND;TZID=America/New_York:20221006T200000
DTSTAMP:20260420T105052
CREATED:20220929T211931Z
LAST-MODIFIED:20220929T211931Z
UID:323135-1665081000-1665086400@www.midatlanticira.com
SUMMARY:Virginia Beach Strategies Group
DESCRIPTION:Purchasing Tax Liens in Your Self-Directed IRA\nA self-directed IRA gives you great flexibility — for example\, to invest in tax liens. Would they be a good fit for your IRA? Many jurisdictions are having “tax sales” this time of year\, so now is the time to get smart about them. Jack Kiley of MidAtlantic IRA will help you understand: \n•The basics of tax liens — what they are\, how they work\n•Strategies for successful tax lien investing\n•How to make tax liens part of your IRA portfolio \nYou’ll also hear from investors who have reaped the rewards of tax liens with their self-directed IRAs.
URL:https://www.midatlanticira.com/event/virginia-beach-strategies-group-4/
CATEGORIES:Strategy Groups
END:VEVENT
BEGIN:VEVENT
DTSTART;TZID=America/North_Dakota/Center:20221013T183000
DTEND;TZID=America/North_Dakota/Center:20221013T200000
DTSTAMP:20260420T105052
CREATED:20220929T212141Z
LAST-MODIFIED:20220929T212141Z
UID:323137-1665685800-1665691200@www.midatlanticira.com
SUMMARY:Kansas City Strategies Group
DESCRIPTION:Purchasing Tax Liens in Your Self-Directed IRA\nA self-directed IRA gives you great flexibility — for example\, to invest in tax liens. Would they be a good fit for your IRA? Many jurisdictions are having “tax sales” this time of year\, so now is the time to get smart about them. Jack Kiley of MidAtlantic IRA will help you understand: \n•The basics of tax liens — what they are\, how they work\n•Strategies for successful tax lien investing\n•How to make tax liens part of your IRA portfolio \nYou’ll also hear from investors who have reaped the rewards of tax liens with their self-directed IRAs.
URL:https://www.midatlanticira.com/event/kansas-city-strategies-group-15/
CATEGORIES:Strategy Groups
END:VEVENT
BEGIN:VEVENT
DTSTART;TZID=America/New_York:20221018T183000
DTEND;TZID=America/New_York:20221018T200000
DTSTAMP:20260420T105052
CREATED:20220929T212251Z
LAST-MODIFIED:20220929T212251Z
UID:323139-1666117800-1666123200@www.midatlanticira.com
SUMMARY:Northern Virginia Strategies Group
DESCRIPTION:Purchasing Tax Liens in Your Self-Directed IRA\nA self-directed IRA gives you great flexibility — for example\, to invest in tax liens. Would they be a good fit for your IRA? Many jurisdictions are having “tax sales” this time of year\, so now is the time to get smart about them. Jack Kiley of MidAtlantic IRA will help you understand: \n•The basics of tax liens — what they are\, how they work\n•Strategies for successful tax lien investing\n•How to make tax liens part of your IRA portfolio \nYou’ll also hear from investors who have reaped the rewards of tax liens with their self-directed IRAs.
URL:https://www.midatlanticira.com/event/northern-virginia-strategies-group-14/
CATEGORIES:Strategy Groups
END:VEVENT
BEGIN:VEVENT
DTSTART;TZID=America/New_York:20221020T183000
DTEND;TZID=America/New_York:20221020T200000
DTSTAMP:20260420T105052
CREATED:20220929T212513Z
LAST-MODIFIED:20220929T212513Z
UID:323141-1666290600-1666296000@www.midatlanticira.com
SUMMARY:Clients Only Strategies Group
DESCRIPTION:401ks and Other Retirement Plan Options\nSometimes you need more capital to make a deal happen. How about using your self-directed IRA as a partner in the transaction? Let an expert show you the ways. \nJack Kiley of MidAtlantic IRA will help you understand:\n• The best structures for pooling capital\n• How to combine IRA funds with other real estate investor funds\n• The potential pitfalls of using IRA funds \nThis knowledge will help you maximize the power of a self-directed IRA. And you must do it right\, to avoid jeopardizing your IRA. Join us and tap Jack’s expertise on this investment strategy.
URL:https://www.midatlanticira.com/event/clients-only-strategies-group-4/
CATEGORIES:Strategy Groups
END:VEVENT
BEGIN:VEVENT
DTSTART;TZID=America/New_York:20221025T183000
DTEND;TZID=America/New_York:20221025T200000
DTSTAMP:20260420T105052
CREATED:20220929T212717Z
LAST-MODIFIED:20220929T212718Z
UID:323143-1666722600-1666728000@www.midatlanticira.com
SUMMARY:Baltimore Strategies Group
DESCRIPTION:Purchasing Tax Liens in Your Self-Directed IRA\nA self-directed IRA gives you great flexibility — for example\, to invest in tax liens. Would they be a good fit for your IRA? Many jurisdictions are having “tax sales” this time of year\, so now is the time to get smart about them. Jack Kiley of MidAtlantic IRA will help you understand: \n•The basics of tax liens — what they are\, how they work\n•Strategies for successful tax lien investing\n•How to make tax liens part of your IRA portfolio \nYou’ll also hear from investors who have reaped the rewards of tax liens with their self-directed IRAs.
URL:https://www.midatlanticira.com/event/baltimore-strategies-group-12/
CATEGORIES:Strategy Groups
END:VEVENT
END:VCALENDAR