BEGIN:VCALENDAR
VERSION:2.0
PRODID:-//Midatlantic IRA - ECPv6.15.20//NONSGML v1.0//EN
CALSCALE:GREGORIAN
METHOD:PUBLISH
X-WR-CALNAME:Midatlantic IRA
X-ORIGINAL-URL:https://www.midatlanticira.com
X-WR-CALDESC:Events for Midatlantic IRA
REFRESH-INTERVAL;VALUE=DURATION:PT1H
X-Robots-Tag:noindex
X-PUBLISHED-TTL:PT1H
BEGIN:VTIMEZONE
TZID:America/New_York
BEGIN:DAYLIGHT
TZOFFSETFROM:-0500
TZOFFSETTO:-0400
TZNAME:EDT
DTSTART:20210314T070000
END:DAYLIGHT
BEGIN:STANDARD
TZOFFSETFROM:-0400
TZOFFSETTO:-0500
TZNAME:EST
DTSTART:20211107T060000
END:STANDARD
BEGIN:DAYLIGHT
TZOFFSETFROM:-0500
TZOFFSETTO:-0400
TZNAME:EDT
DTSTART:20220313T070000
END:DAYLIGHT
BEGIN:STANDARD
TZOFFSETFROM:-0400
TZOFFSETTO:-0500
TZNAME:EST
DTSTART:20221106T060000
END:STANDARD
BEGIN:DAYLIGHT
TZOFFSETFROM:-0500
TZOFFSETTO:-0400
TZNAME:EDT
DTSTART:20230312T070000
END:DAYLIGHT
BEGIN:STANDARD
TZOFFSETFROM:-0400
TZOFFSETTO:-0500
TZNAME:EST
DTSTART:20231105T060000
END:STANDARD
END:VTIMEZONE
BEGIN:VTIMEZONE
TZID:America/North_Dakota/Center
BEGIN:DAYLIGHT
TZOFFSETFROM:-0600
TZOFFSETTO:-0500
TZNAME:CDT
DTSTART:20210314T080000
END:DAYLIGHT
BEGIN:STANDARD
TZOFFSETFROM:-0500
TZOFFSETTO:-0600
TZNAME:CST
DTSTART:20211107T070000
END:STANDARD
BEGIN:DAYLIGHT
TZOFFSETFROM:-0600
TZOFFSETTO:-0500
TZNAME:CDT
DTSTART:20220313T080000
END:DAYLIGHT
BEGIN:STANDARD
TZOFFSETFROM:-0500
TZOFFSETTO:-0600
TZNAME:CST
DTSTART:20221106T070000
END:STANDARD
BEGIN:DAYLIGHT
TZOFFSETFROM:-0600
TZOFFSETTO:-0500
TZNAME:CDT
DTSTART:20230312T080000
END:DAYLIGHT
BEGIN:STANDARD
TZOFFSETFROM:-0500
TZOFFSETTO:-0600
TZNAME:CST
DTSTART:20231105T070000
END:STANDARD
END:VTIMEZONE
BEGIN:VEVENT
DTSTART;TZID=America/New_York:20220908T183000
DTEND;TZID=America/New_York:20220908T200000
DTSTAMP:20260420T122348
CREATED:20220831T024958Z
LAST-MODIFIED:20220831T024958Z
UID:323089-1662661800-1662667200@www.midatlanticira.com
SUMMARY:Virginia Beach Strategies Group
DESCRIPTION:401ks and Other Retirement Plan Options\nDo  you have Self-Directed Retirement Plan options beyond IRAs? Yes. Several! Learn all about them at our next Strategies Meeting. Self-Directed IRAs are terrific. But what if you want something different? Something more? \nJack Kiley with MidAtlantic IRA will help you understand: \n\nOther retirement plan options that still give you self-directed control\nHow they work if you’re a sole proprietor or if you have an LLC\, S-Corp\, or C-Corp\nContribution limits and how you can maximize them\nThe greater flexibility you enjoy with certain plans\n\nRegister Here
URL:https://www.midatlanticira.com/event/virginia-beach-strategies-group-3/
CATEGORIES:Strategy Groups
END:VEVENT
BEGIN:VEVENT
DTSTART;TZID=America/North_Dakota/Center:20220915T183000
DTEND;TZID=America/North_Dakota/Center:20220915T200000
DTSTAMP:20260420T122348
CREATED:20220831T025203Z
LAST-MODIFIED:20220831T025204Z
UID:323091-1663266600-1663272000@www.midatlanticira.com
SUMMARY:Kansas City Strategies Group
DESCRIPTION:401ks and Other Retirement Plan Options\nDo  you have Self-Directed Retirement Plan options beyond IRAs? Yes. Several! Learn all about them at our next Strategies Meeting. Self-Directed IRAs are terrific. But what if you want something different? Something more? \nJack Kiley with MidAtlantic IRA will help you understand: \n\nOther retirement plan options that still give you self-directed control\nHow they work if you’re a sole proprietor or if you have an LLC\, S-Corp\, or C-Corp\nContribution limits and how you can maximize them\nThe greater flexibility you enjoy with certain plans\n\nRegister Here
URL:https://www.midatlanticira.com/event/kansas-city-strategies-group-14/
CATEGORIES:Strategy Groups
END:VEVENT
BEGIN:VEVENT
DTSTART;TZID=America/New_York:20220920T183000
DTEND;TZID=America/New_York:20220920T200000
DTSTAMP:20260420T122348
CREATED:20220831T025313Z
LAST-MODIFIED:20220831T025313Z
UID:323093-1663698600-1663704000@www.midatlanticira.com
SUMMARY:Northern Virginia Strategies Group
DESCRIPTION:401ks and Other Retirement Plan Options\nDo  you have Self-Directed Retirement Plan options beyond IRAs? Yes. Several! Learn all about them at our next Strategies Meeting. Self-Directed IRAs are terrific. But what if you want something different? Something more? \nJack Kiley with MidAtlantic IRA will help you understand: \n\nOther retirement plan options that still give you self-directed control\nHow they work if you’re a sole proprietor or if you have an LLC\, S-Corp\, or C-Corp\nContribution limits and how you can maximize them\nThe greater flexibility you enjoy with certain plans\n\nRegister Here
URL:https://www.midatlanticira.com/event/northern-virginia-strategies-group-13/
CATEGORIES:Strategy Groups
END:VEVENT
BEGIN:VEVENT
DTSTART;TZID=America/New_York:20220927T183000
DTEND;TZID=America/New_York:20220927T200000
DTSTAMP:20260420T122348
CREATED:20220831T025443Z
LAST-MODIFIED:20220831T025444Z
UID:323095-1664303400-1664308800@www.midatlanticira.com
SUMMARY:Baltimore Strategies Group
DESCRIPTION:401ks and Other Retirement Plan Options\nDo  you have Self-Directed Retirement Plan options beyond IRAs? Yes. Several! Learn all about them at our next Strategies Meeting. Self-Directed IRAs are terrific. But what if you want something different? Something more? \nJack Kiley with MidAtlantic IRA will help you understand: \n\nOther retirement plan options that still give you self-directed control\nHow they work if you’re a sole proprietor or if you have an LLC\, S-Corp\, or C-Corp\nContribution limits and how you can maximize them\nThe greater flexibility you enjoy with certain plans\n\nRegister Here
URL:https://www.midatlanticira.com/event/baltimore-strategies-group-11/
CATEGORIES:Strategy Groups
END:VEVENT
END:VCALENDAR