BEGIN:VCALENDAR
VERSION:2.0
PRODID:-//Midatlantic IRA - ECPv6.15.20//NONSGML v1.0//EN
CALSCALE:GREGORIAN
METHOD:PUBLISH
X-WR-CALNAME:Midatlantic IRA
X-ORIGINAL-URL:https://www.midatlanticira.com
X-WR-CALDESC:Events for Midatlantic IRA
REFRESH-INTERVAL;VALUE=DURATION:PT1H
X-Robots-Tag:noindex
X-PUBLISHED-TTL:PT1H
BEGIN:VTIMEZONE
TZID:America/New_York
BEGIN:DAYLIGHT
TZOFFSETFROM:-0500
TZOFFSETTO:-0400
TZNAME:EDT
DTSTART:20210314T070000
END:DAYLIGHT
BEGIN:STANDARD
TZOFFSETFROM:-0400
TZOFFSETTO:-0500
TZNAME:EST
DTSTART:20211107T060000
END:STANDARD
BEGIN:DAYLIGHT
TZOFFSETFROM:-0500
TZOFFSETTO:-0400
TZNAME:EDT
DTSTART:20220313T070000
END:DAYLIGHT
BEGIN:STANDARD
TZOFFSETFROM:-0400
TZOFFSETTO:-0500
TZNAME:EST
DTSTART:20221106T060000
END:STANDARD
BEGIN:DAYLIGHT
TZOFFSETFROM:-0500
TZOFFSETTO:-0400
TZNAME:EDT
DTSTART:20230312T070000
END:DAYLIGHT
BEGIN:STANDARD
TZOFFSETFROM:-0400
TZOFFSETTO:-0500
TZNAME:EST
DTSTART:20231105T060000
END:STANDARD
END:VTIMEZONE
BEGIN:VTIMEZONE
TZID:America/North_Dakota/Center
BEGIN:DAYLIGHT
TZOFFSETFROM:-0600
TZOFFSETTO:-0500
TZNAME:CDT
DTSTART:20210314T080000
END:DAYLIGHT
BEGIN:STANDARD
TZOFFSETFROM:-0500
TZOFFSETTO:-0600
TZNAME:CST
DTSTART:20211107T070000
END:STANDARD
BEGIN:DAYLIGHT
TZOFFSETFROM:-0600
TZOFFSETTO:-0500
TZNAME:CDT
DTSTART:20220313T080000
END:DAYLIGHT
BEGIN:STANDARD
TZOFFSETFROM:-0500
TZOFFSETTO:-0600
TZNAME:CST
DTSTART:20221106T070000
END:STANDARD
BEGIN:DAYLIGHT
TZOFFSETFROM:-0600
TZOFFSETTO:-0500
TZNAME:CDT
DTSTART:20230312T080000
END:DAYLIGHT
BEGIN:STANDARD
TZOFFSETFROM:-0500
TZOFFSETTO:-0600
TZNAME:CST
DTSTART:20231105T070000
END:STANDARD
END:VTIMEZONE
BEGIN:VEVENT
DTSTART;TZID=America/New_York:20220707T183000
DTEND;TZID=America/New_York:20220707T200000
DTSTAMP:20260420T192438
CREATED:20220706T185436Z
LAST-MODIFIED:20220706T185436Z
UID:323051-1657218600-1657224000@www.midatlanticira.com
SUMMARY:Virginia Beach Strategies Group
DESCRIPTION:Partnering with your Self-Directed IRA\nSometimes you need more capital to make a deal happen. How about using your self-directed IRA as a partner in the transaction? Let an expert show you the ways. \nJack Kiley of MidAtlantic IRA will help you understand:\n• The best structures for pooling capital\n• How to combine IRA funds with other real estate investor funds\n• The potential pitfalls of using IRA funds \nThis knowledge will help you maximize the power of a self-directed IRA. And you must do it right\, to avoid jeopardizing your IRA. Join us and tap Jack’s expertise on this investment strategy.
URL:https://www.midatlanticira.com/event/virginia-beach-strategies-group-2/
CATEGORIES:Strategy Groups
END:VEVENT
BEGIN:VEVENT
DTSTART;TZID=America/North_Dakota/Center:20220714T183000
DTEND;TZID=America/North_Dakota/Center:20220714T200000
DTSTAMP:20260420T192438
CREATED:20220706T185627Z
LAST-MODIFIED:20220706T185627Z
UID:323053-1657823400-1657828800@www.midatlanticira.com
SUMMARY:Kansas City Strategies Group
DESCRIPTION:Partnering with your Self-Directed IRA\nSometimes you need more capital to make a deal happen. How about using your self-directed IRA as a partner in the transaction? Let an expert show you the ways. \nJack Kiley of MidAtlantic IRA will help you understand:\n• The best structures for pooling capital\n• How to combine IRA funds with other real estate investor funds\n• The potential pitfalls of using IRA funds \nThis knowledge will help you maximize the power of a self-directed IRA. And you must do it right\, to avoid jeopardizing your IRA. Join us and tap Jack’s expertise on this investment strategy.
URL:https://www.midatlanticira.com/event/kansas-city-strategies-group-13/
CATEGORIES:Strategy Groups
END:VEVENT
BEGIN:VEVENT
DTSTART;TZID=America/New_York:20220719T183000
DTEND;TZID=America/New_York:20220719T200000
DTSTAMP:20260420T192438
CREATED:20220706T185946Z
LAST-MODIFIED:20220706T185946Z
UID:323057-1658255400-1658260800@www.midatlanticira.com
SUMMARY:Northern Virginia Strategies Group
DESCRIPTION:Partnering with your Self-Directed IRA\nSometimes you need more capital to make a deal happen. How about using your self-directed IRA as a partner in the transaction? Let an expert show you the ways. \nJack Kiley of MidAtlantic IRA will help you understand:\n• The best structures for pooling capital\n• How to combine IRA funds with other real estate investor funds\n• The potential pitfalls of using IRA funds \nThis knowledge will help you maximize the power of a self-directed IRA. And you must do it right\, to avoid jeopardizing your IRA. Join us and tap Jack’s expertise on this investment strategy.
URL:https://www.midatlanticira.com/event/northern-virginia-strategies-group-12/
CATEGORIES:Strategy Groups
END:VEVENT
BEGIN:VEVENT
DTSTART;TZID=America/New_York:20220721T183000
DTEND;TZID=America/New_York:20220721T200000
DTSTAMP:20260420T192438
CREATED:20220706T185825Z
LAST-MODIFIED:20220706T185825Z
UID:323055-1658428200-1658433600@www.midatlanticira.com
SUMMARY:Clients Only Strategies Group
DESCRIPTION:Rehabbing in your Self-Directed IRA\nYou have capital tied up in retirement plans… you’d love to tap that capital to finance your flips… but how can you do that? \nAt our next Strategies IRA Meeting\, Jack Kiley of MidAtlantic IRA will show you how to rehab properties with funding from a self-directed IRA. He’ll detail the rules you must follow to do it legally and avoid invalidating your IRA. There’s no need to worry if you follow the rules — which is why you need to hear them from an expert like Jack. \nWhether you have a self-directed IRA now or not yet\, join us and learn how to put this powerful tool to work for you.
URL:https://www.midatlanticira.com/event/clients-only-strategies-group-3/
CATEGORIES:Strategy Groups
END:VEVENT
BEGIN:VEVENT
DTSTART;TZID=America/New_York:20220726T183000
DTEND;TZID=America/New_York:20220726T200000
DTSTAMP:20260420T192438
CREATED:20220706T190130Z
LAST-MODIFIED:20220706T190130Z
UID:323059-1658860200-1658865600@www.midatlanticira.com
SUMMARY:Baltimore Strategies Group
DESCRIPTION:Partnering with your Self-Directed IRA\nSometimes you need more capital to make a deal happen. How about using your self-directed IRA as a partner in the transaction? Let an expert show you the ways. \nJack Kiley of MidAtlantic IRA will help you understand:\n• The best structures for pooling capital\n• How to combine IRA funds with other real estate investor funds\n• The potential pitfalls of using IRA funds \nThis knowledge will help you maximize the power of a self-directed IRA. And you must do it right\, to avoid jeopardizing your IRA. Join us and tap Jack’s expertise on this investment strategy.
URL:https://www.midatlanticira.com/event/baltimore-strategies-group-10/
CATEGORIES:Strategy Groups
END:VEVENT
END:VCALENDAR