BEGIN:VCALENDAR
VERSION:2.0
PRODID:-//Midatlantic IRA - ECPv6.15.20//NONSGML v1.0//EN
CALSCALE:GREGORIAN
METHOD:PUBLISH
X-ORIGINAL-URL:https://www.midatlanticira.com
X-WR-CALDESC:Events for Midatlantic IRA
REFRESH-INTERVAL;VALUE=DURATION:PT1H
X-Robots-Tag:noindex
X-PUBLISHED-TTL:PT1H
BEGIN:VTIMEZONE
TZID:America/New_York
BEGIN:DAYLIGHT
TZOFFSETFROM:-0500
TZOFFSETTO:-0400
TZNAME:EDT
DTSTART:20210314T070000
END:DAYLIGHT
BEGIN:STANDARD
TZOFFSETFROM:-0400
TZOFFSETTO:-0500
TZNAME:EST
DTSTART:20211107T060000
END:STANDARD
BEGIN:DAYLIGHT
TZOFFSETFROM:-0500
TZOFFSETTO:-0400
TZNAME:EDT
DTSTART:20220313T070000
END:DAYLIGHT
BEGIN:STANDARD
TZOFFSETFROM:-0400
TZOFFSETTO:-0500
TZNAME:EST
DTSTART:20221106T060000
END:STANDARD
BEGIN:DAYLIGHT
TZOFFSETFROM:-0500
TZOFFSETTO:-0400
TZNAME:EDT
DTSTART:20230312T070000
END:DAYLIGHT
BEGIN:STANDARD
TZOFFSETFROM:-0400
TZOFFSETTO:-0500
TZNAME:EST
DTSTART:20231105T060000
END:STANDARD
END:VTIMEZONE
BEGIN:VTIMEZONE
TZID:America/North_Dakota/Center
BEGIN:DAYLIGHT
TZOFFSETFROM:-0600
TZOFFSETTO:-0500
TZNAME:CDT
DTSTART:20210314T080000
END:DAYLIGHT
BEGIN:STANDARD
TZOFFSETFROM:-0500
TZOFFSETTO:-0600
TZNAME:CST
DTSTART:20211107T070000
END:STANDARD
BEGIN:DAYLIGHT
TZOFFSETFROM:-0600
TZOFFSETTO:-0500
TZNAME:CDT
DTSTART:20220313T080000
END:DAYLIGHT
BEGIN:STANDARD
TZOFFSETFROM:-0500
TZOFFSETTO:-0600
TZNAME:CST
DTSTART:20221106T070000
END:STANDARD
BEGIN:DAYLIGHT
TZOFFSETFROM:-0600
TZOFFSETTO:-0500
TZNAME:CDT
DTSTART:20230312T080000
END:DAYLIGHT
BEGIN:STANDARD
TZOFFSETFROM:-0500
TZOFFSETTO:-0600
TZNAME:CST
DTSTART:20231105T070000
END:STANDARD
END:VTIMEZONE
BEGIN:VEVENT
DTSTART;TZID=America/New_York:20220602T183000
DTEND;TZID=America/New_York:20220602T203000
DTSTAMP:20260421T005537
CREATED:20220528T223345Z
LAST-MODIFIED:20220528T223348Z
UID:323009-1654194600-1654201800@www.midatlanticira.com
SUMMARY:Virginia Beach Strategies Group
DESCRIPTION:Rehabbing in a Self-Directed IRA\nYou have capital tied up in retirement plans… you’d love to tap that capital to finance your flips… but how can you do that? \nAt our next Strategies IRA Meeting\, Jack Kiley of MidAtlantic IRA will show you how to rehab properties with funding from a self-directed IRA. He’ll detail the rules you must follow to do it legally and avoid invalidating your IRA. There’s no need to worry if you follow the rules — which is why you need to hear them from an expert like Jack. \nWhether you have a self-directed IRA now or not yet\, join us and learn how to put this powerful tool to work for you. \nRegister Here
URL:https://www.midatlanticira.com/event/virginia-beach-strategies-group/
CATEGORIES:Strategy Groups
END:VEVENT
BEGIN:VEVENT
DTSTART;TZID=America/North_Dakota/Center:20220609T183000
DTEND;TZID=America/North_Dakota/Center:20220609T183000
DTSTAMP:20260421T005537
CREATED:20220528T223604Z
LAST-MODIFIED:20220528T223607Z
UID:323014-1654799400-1654799400@www.midatlanticira.com
SUMMARY:Kansas City Strategies Group
DESCRIPTION:Rehabbing in a Self-Directed IRA\nYou have capital tied up in retirement plans… you’d love to tap that capital to finance your flips… but how can you do that? \nAt our next Strategies IRA Meeting\, Jack Kiley of MidAtlantic IRA will show you how to rehab properties with funding from a self-directed IRA. He’ll detail the rules you must follow to do it legally and avoid invalidating your IRA. There’s no need to worry if you follow the rules — which is why you need to hear them from an expert like Jack. \nWhether you have a self-directed IRA now or not yet\, join us and learn how to put this powerful tool to work for you. \nRegister Here
URL:https://www.midatlanticira.com/event/kansas-city-strategies-group-12/
CATEGORIES:Strategy Groups
END:VEVENT
BEGIN:VEVENT
DTSTART;TZID=America/New_York:20220616T183000
DTEND;TZID=America/New_York:20220616T203000
DTSTAMP:20260421T005537
CREATED:20220528T225809Z
LAST-MODIFIED:20220528T225813Z
UID:323018-1655404200-1655411400@www.midatlanticira.com
SUMMARY:Clients Only Strategies Group
DESCRIPTION:Invest Like a Power User\nAt our next Strategies meeting\, some of our own Power Users will share their experience and investment strategies. \nThis is our exclusive Strategies Group where we’ll cover various IRA topics and learn from fellow investors about their current deals within their MidAtlantic IRAs. If you’re looking to network\, gain new insights for your personal strategies and dive deeper with your IRA investments\, this is the group for you. \nYou must be a Client of MidAtlantic IRA in order to attend. Please contact Sioban Kiley at our office to secure your spot at 240-575-3880 x209
URL:https://www.midatlanticira.com/event/clients-only-strategies-group-2/
CATEGORIES:Strategy Groups
END:VEVENT
BEGIN:VEVENT
DTSTART;TZID=America/New_York:20220621T183000
DTEND;TZID=America/New_York:20220621T203000
DTSTAMP:20260421T005537
CREATED:20220528T230109Z
LAST-MODIFIED:20220528T230114Z
UID:323024-1655836200-1655843400@www.midatlanticira.com
SUMMARY:Northern Virginia Strategies Group
DESCRIPTION:Rehabbing in a Self-Directed IRA\nYou have capital tied up in retirement plans… you’d love to tap that capital to finance your flips… but how can you do that? \nAt our next Strategies IRA Meeting\, Jack Kiley of MidAtlantic IRA will show you how to rehab properties with funding from a self-directed IRA. He’ll detail the rules you must follow to do it legally and avoid invalidating your IRA. There’s no need to worry if you follow the rules — which is why you need to hear them from an expert like Jack. \nWhether you have a self-directed IRA now or not yet\, join us and learn how to put this powerful tool to work for you. \nRegister Here
URL:https://www.midatlanticira.com/event/northern-virginia-strategies-group-11/
CATEGORIES:Strategy Groups
END:VEVENT
BEGIN:VEVENT
DTSTART;TZID=America/New_York:20220628T183000
DTEND;TZID=America/New_York:20220628T203000
DTSTAMP:20260421T005537
CREATED:20220528T230337Z
LAST-MODIFIED:20220528T230341Z
UID:323028-1656441000-1656448200@www.midatlanticira.com
SUMMARY:Baltimore Strategies Group
DESCRIPTION:Rehabbing in a Self-Directed IRA\nYou have capital tied up in retirement plans… you’d love to tap that capital to finance your flips… but how can you do that? \nAt our next Strategies IRA Meeting\, Jack Kiley of MidAtlantic IRA will show you how to rehab properties with funding from a self-directed IRA. He’ll detail the rules you must follow to do it legally and avoid invalidating your IRA. There’s no need to worry if you follow the rules — which is why you need to hear them from an expert like Jack. \nWhether you have a self-directed IRA now or not yet\, join us and learn how to put this powerful tool to work for you. \nRegister Here
URL:https://www.midatlanticira.com/event/baltimore-strategies-group-9/
CATEGORIES:Strategy Groups
END:VEVENT
END:VCALENDAR