BEGIN:VCALENDAR
VERSION:2.0
PRODID:-//Midatlantic IRA - ECPv6.15.20//NONSGML v1.0//EN
CALSCALE:GREGORIAN
METHOD:PUBLISH
X-WR-CALNAME:Midatlantic IRA
X-ORIGINAL-URL:https://www.midatlanticira.com
X-WR-CALDESC:Events for Midatlantic IRA
REFRESH-INTERVAL;VALUE=DURATION:PT1H
X-Robots-Tag:noindex
X-PUBLISHED-TTL:PT1H
BEGIN:VTIMEZONE
TZID:America/North_Dakota/Beulah
BEGIN:DAYLIGHT
TZOFFSETFROM:-0600
TZOFFSETTO:-0500
TZNAME:CDT
DTSTART:20200308T080000
END:DAYLIGHT
BEGIN:STANDARD
TZOFFSETFROM:-0500
TZOFFSETTO:-0600
TZNAME:CST
DTSTART:20201101T070000
END:STANDARD
BEGIN:DAYLIGHT
TZOFFSETFROM:-0600
TZOFFSETTO:-0500
TZNAME:CDT
DTSTART:20210314T080000
END:DAYLIGHT
BEGIN:STANDARD
TZOFFSETFROM:-0500
TZOFFSETTO:-0600
TZNAME:CST
DTSTART:20211107T070000
END:STANDARD
BEGIN:DAYLIGHT
TZOFFSETFROM:-0600
TZOFFSETTO:-0500
TZNAME:CDT
DTSTART:20220313T080000
END:DAYLIGHT
BEGIN:STANDARD
TZOFFSETFROM:-0500
TZOFFSETTO:-0600
TZNAME:CST
DTSTART:20221106T070000
END:STANDARD
END:VTIMEZONE
BEGIN:VTIMEZONE
TZID:America/New_York
BEGIN:DAYLIGHT
TZOFFSETFROM:-0500
TZOFFSETTO:-0400
TZNAME:EDT
DTSTART:20200308T070000
END:DAYLIGHT
BEGIN:STANDARD
TZOFFSETFROM:-0400
TZOFFSETTO:-0500
TZNAME:EST
DTSTART:20201101T060000
END:STANDARD
BEGIN:DAYLIGHT
TZOFFSETFROM:-0500
TZOFFSETTO:-0400
TZNAME:EDT
DTSTART:20210314T070000
END:DAYLIGHT
BEGIN:STANDARD
TZOFFSETFROM:-0400
TZOFFSETTO:-0500
TZNAME:EST
DTSTART:20211107T060000
END:STANDARD
BEGIN:DAYLIGHT
TZOFFSETFROM:-0500
TZOFFSETTO:-0400
TZNAME:EDT
DTSTART:20220313T070000
END:DAYLIGHT
BEGIN:STANDARD
TZOFFSETFROM:-0400
TZOFFSETTO:-0500
TZNAME:EST
DTSTART:20221106T060000
END:STANDARD
END:VTIMEZONE
BEGIN:VEVENT
DTSTART;TZID=America/North_Dakota/Beulah:20211111T183000
DTEND;TZID=America/North_Dakota/Beulah:20211111T183000
DTSTAMP:20260421T163100
CREATED:20210929T165952Z
LAST-MODIFIED:20211102T214450Z
UID:322640-1636655400-1636655400@www.midatlanticira.com
SUMMARY:Kansas City Strategy Group
DESCRIPTION:Tax Law Changes for 2021 & 2022\nAs we enter the last couple of months of the year\, now is the time to do two things: \n1. Take a ‘snap shot’ of where you are so far this year and project the next 60 days. Now is the time to do any last-minute planning to minimize your tax liability.2. Start to think about what needs to be done to get off to a fast start in 2020. \nOur November meet up will help you accomplish both. We’ll discuss the tax law changes from last year as well as new legislation and how it will impact you individually\, in your business and in your retirement plan. Understanding your tax position will help you- especially as we enter an election year in 2020. \nLearn what changes are important to you and if you need to do anything to re-position yourself. Come understand what potential tax law changes could impact you next year. Listen to what your peers are doing and discover new opportunities. \n			\n				Register Here
URL:https://www.midatlanticira.com/event/kansas-city-strategy-group/
CATEGORIES:Strategy Groups
END:VEVENT
BEGIN:VEVENT
DTSTART;TZID=America/New_York:20211116T183000
DTEND;TZID=America/New_York:20211116T203000
DTSTAMP:20260421T163100
CREATED:20210929T165447Z
LAST-MODIFIED:20211102T221228Z
UID:322633-1637087400-1637094600@www.midatlanticira.com
SUMMARY:Northern Virginia Strategies Group
DESCRIPTION:Tax Law Changes for 2021 & 2022\nAs we enter the last couple of months of the year\, now is the time to do two things: \n1. Take a ‘snap shot’ of where you are so far this year and project the next 60 days. Now is the time to do any last-minute planning to minimize your tax liability.2. Start to think about what needs to be done to get off to a fast start in 2020. \nOur November meet up will help you accomplish both. We’ll discuss the tax law changes from last year as well as new legislation and how it will impact you individually\, in your business and in your retirement plan. Understanding your tax position will help you- especially as we enter an election year in 2020. \nLearn what changes are important to you and if you need to do anything to re-position yourself. Come understand what potential tax law changes could impact you next year. Listen to what your peers are doing and discover new opportunities. \n			\n				Register Here
URL:https://www.midatlanticira.com/event/northern-virginia-strategies-group-6/
CATEGORIES:Strategy Groups
END:VEVENT
BEGIN:VEVENT
DTSTART;TZID=America/New_York:20211123T183000
DTEND;TZID=America/New_York:20211123T183000
DTSTAMP:20260421T163100
CREATED:20210929T170224Z
LAST-MODIFIED:20211102T221620Z
UID:322649-1637692200-1637692200@www.midatlanticira.com
SUMMARY:Baltimore Strategy Group
DESCRIPTION:Tax Law Changes for 2021 & 2022\nAs we enter the last couple of months of the year\, now is the time to do two things: \n1. Take a ‘snap shot’ of where you are so far this year and project the next 60 days. Now is the time to do any last-minute planning to minimize your tax liability.2. Start to think about what needs to be done to get off to a fast start in 2020. \nOur November meet up will help you accomplish both. We’ll discuss the tax law changes from last year as well as new legislation and how it will impact you individually\, in your business and in your retirement plan. Understanding your tax position will help you- especially as we enter an election year in 2020. \nLearn what changes are important to you and if you need to do anything to re-position yourself. Come understand what potential tax law changes could impact you next year. Listen to what your peers are doing and discover new opportunities. \n			\n				Register Here
URL:https://www.midatlanticira.com/event/baltimore-strategy-group-4/
CATEGORIES:Strategy Groups
END:VEVENT
END:VCALENDAR