BEGIN:VCALENDAR
VERSION:2.0
PRODID:-//Midatlantic IRA - ECPv6.15.20//NONSGML v1.0//EN
CALSCALE:GREGORIAN
METHOD:PUBLISH
X-ORIGINAL-URL:https://www.midatlanticira.com
X-WR-CALDESC:Events for Midatlantic IRA
REFRESH-INTERVAL;VALUE=DURATION:PT1H
X-Robots-Tag:noindex
X-PUBLISHED-TTL:PT1H
BEGIN:VTIMEZONE
TZID:America/New_York
BEGIN:DAYLIGHT
TZOFFSETFROM:-0500
TZOFFSETTO:-0400
TZNAME:EDT
DTSTART:20200308T070000
END:DAYLIGHT
BEGIN:STANDARD
TZOFFSETFROM:-0400
TZOFFSETTO:-0500
TZNAME:EST
DTSTART:20201101T060000
END:STANDARD
BEGIN:DAYLIGHT
TZOFFSETFROM:-0500
TZOFFSETTO:-0400
TZNAME:EDT
DTSTART:20210314T070000
END:DAYLIGHT
BEGIN:STANDARD
TZOFFSETFROM:-0400
TZOFFSETTO:-0500
TZNAME:EST
DTSTART:20211107T060000
END:STANDARD
BEGIN:DAYLIGHT
TZOFFSETFROM:-0500
TZOFFSETTO:-0400
TZNAME:EDT
DTSTART:20220313T070000
END:DAYLIGHT
BEGIN:STANDARD
TZOFFSETFROM:-0400
TZOFFSETTO:-0500
TZNAME:EST
DTSTART:20221106T060000
END:STANDARD
END:VTIMEZONE
BEGIN:VEVENT
DTSTART;TZID=America/New_York:20210612T100000
DTEND;TZID=America/New_York:20210612T140000
DTSTAMP:20260422T003534
CREATED:20210412T205948Z
LAST-MODIFIED:20210412T205951Z
UID:322279-1623492000-1623506400@www.midatlanticira.com
SUMMARY:Self-Directed IRA Bootcamp Level 2
DESCRIPTION:  \nThis course is designed for those who understand the basics and desire to dig a little deeper. In Level II – Self-Directed Bootcamp we will introduce Advanced Strategies used by real estate investors\, entrepreneurs and seasoned self-directed retirement plan users. If you are ready to level up and to maximize your retirement plan’s potential. \n			\n				\n				\n				\n				\n				Our Level 2 Bootcamp is for you if:\n\nYou understand the basics or took our Level I – Bootcamp and are ready to jump to the next level and become the expert in Self-Directed IRA’s.\nYou have an investment in mind\, but want to understand the strategy behind it.\nYou want to up-level your current portfolio using Advanced Strategies in self-direction.\n\n			\n				\n				\n				\n				\n				This is what you’ll get:\n\nA 4-hour interactive Level II – Self-Directed IRA Bootcamp with expert John “Jack” Kiley\, CPA\, CISP\nWorkbook and Handouts for you to reference when building your deal structure.\nQuestion & Answer opportunities to walk through specific investment examples.\nLearn from experts in the Self-Directed IRA world and tap into their experience.\nA full recording of the virtual event.\n\n			\n				\n				\n				\n				\n				Self-Directed IRA Bootcamp Level 1 Details:\nSaturday\, June 12th | 10am – 2pm ET \nThis Virtual Bootcamp will be hosted using the platform Demio. You’ll have the ability to use your camera and microphone to interact with us virtually during this Bootcamp. A Chat Box is also available. We will also send a Troubleshooting Guide prior to the event in case you run into issues. \nSounds great. I’m ready to sign up. \n			\n				\n				\n				\n				\n				Let’s Take a Deeper Look:\nLevel II – Self-Directed IRA Bootcamp is designed for those who want to take the next step towards maximizing their retirement plan’s potential. Our half day program is designed to be interactive and allow you to ask questions directly to our experts. You will learn some of the Advanced Strategies in IRA self-direction utilized by seasoned self-directed retirement plan users. We will discuss different structures for holding investments as well as how to partner retirement plan funds with others. Real estate investors understand the power of leverage … and so do seasoned self directed users.  \n			\n				\n				\n				\n				\n				Learning Objectives:\n\nInvesting and the use of leverage.\nWho to partner retirement plan funds and what structures to use.\nPartnering with Family members and other disqualified persons.\nPotential tax issues regarding certain strategies\n\n			\n			\n				\n				\n				\n				\n			\n				\n				\n				\n				\n				\n				\n			\n				\n				\n				\n				\n				\n				I'm Ready to Sign Up!\n			\n			\n				\n				\n				\n				\n				\n				Learn about Level 1
URL:https://www.midatlanticira.com/event/self-directed-ira-bootcamp-level-2/
CATEGORIES:Speaking Event,Strategy Groups
END:VEVENT
END:VCALENDAR