BEGIN:VCALENDAR
VERSION:2.0
PRODID:-//Midatlantic IRA - ECPv6.15.20//NONSGML v1.0//EN
CALSCALE:GREGORIAN
METHOD:PUBLISH
X-WR-CALNAME:Midatlantic IRA
X-ORIGINAL-URL:https://www.midatlanticira.com
X-WR-CALDESC:Events for Midatlantic IRA
REFRESH-INTERVAL;VALUE=DURATION:PT1H
X-Robots-Tag:noindex
X-PUBLISHED-TTL:PT1H
BEGIN:VTIMEZONE
TZID:America/North_Dakota/Center
BEGIN:DAYLIGHT
TZOFFSETFROM:-0600
TZOFFSETTO:-0500
TZNAME:CDT
DTSTART:20190310T080000
END:DAYLIGHT
BEGIN:STANDARD
TZOFFSETFROM:-0500
TZOFFSETTO:-0600
TZNAME:CST
DTSTART:20191103T070000
END:STANDARD
BEGIN:DAYLIGHT
TZOFFSETFROM:-0600
TZOFFSETTO:-0500
TZNAME:CDT
DTSTART:20200308T080000
END:DAYLIGHT
BEGIN:STANDARD
TZOFFSETFROM:-0500
TZOFFSETTO:-0600
TZNAME:CST
DTSTART:20201101T070000
END:STANDARD
BEGIN:DAYLIGHT
TZOFFSETFROM:-0600
TZOFFSETTO:-0500
TZNAME:CDT
DTSTART:20210314T080000
END:DAYLIGHT
BEGIN:STANDARD
TZOFFSETFROM:-0500
TZOFFSETTO:-0600
TZNAME:CST
DTSTART:20211107T070000
END:STANDARD
END:VTIMEZONE
BEGIN:VTIMEZONE
TZID:America/New_York
BEGIN:DAYLIGHT
TZOFFSETFROM:-0500
TZOFFSETTO:-0400
TZNAME:EDT
DTSTART:20190310T070000
END:DAYLIGHT
BEGIN:STANDARD
TZOFFSETFROM:-0400
TZOFFSETTO:-0500
TZNAME:EST
DTSTART:20191103T060000
END:STANDARD
BEGIN:DAYLIGHT
TZOFFSETFROM:-0500
TZOFFSETTO:-0400
TZNAME:EDT
DTSTART:20200308T070000
END:DAYLIGHT
BEGIN:STANDARD
TZOFFSETFROM:-0400
TZOFFSETTO:-0500
TZNAME:EST
DTSTART:20201101T060000
END:STANDARD
BEGIN:DAYLIGHT
TZOFFSETFROM:-0500
TZOFFSETTO:-0400
TZNAME:EDT
DTSTART:20210314T070000
END:DAYLIGHT
BEGIN:STANDARD
TZOFFSETFROM:-0400
TZOFFSETTO:-0500
TZNAME:EST
DTSTART:20211107T060000
END:STANDARD
END:VTIMEZONE
BEGIN:VEVENT
DTSTART;TZID=America/North_Dakota/Center:20201112T183000
DTEND;TZID=America/North_Dakota/Center:20201112T203000
DTSTAMP:20260422T221459
CREATED:20201030T022320Z
LAST-MODIFIED:20201030T024131Z
UID:321728-1605205800-1605213000@www.midatlanticira.com
SUMMARY:Kansas City Strategies Group
DESCRIPTION:Tax Update & Advanced Strategies\nIt’s time to round up 2020 with a Tax Update. There have been a myriad of individual\, business and retirement plan tax law changes during the year. Come learn whether you’ve made the proper moves and whether there is anything you need to do prior to year-end to be properly positioned for 2021. \nRegister Here: https://us02web.zoom.us/meeting/register/tZMldOisrD8qE91ZS5uktI_XMpDgmPyOUjlz
URL:https://www.midatlanticira.com/event/kansas-city-strategies-group-2/
CATEGORIES:Strategy Groups
END:VEVENT
BEGIN:VEVENT
DTSTART;TZID=America/New_York:20201117T183000
DTEND;TZID=America/New_York:20201117T203000
DTSTAMP:20260422T221459
CREATED:20201030T023449Z
LAST-MODIFIED:20201030T024042Z
UID:321734-1605637800-1605645000@www.midatlanticira.com
SUMMARY:Northern Virginia Strategies Group
DESCRIPTION:Tax Update & Advanced Strategies\nIt’s time to round up 2020 with a Tax Update. There have been a myriad of individual\, business and retirement plan tax law changes during the year. Come learn whether you’ve made the proper moves and whether there is anything you need to do prior to year-end to be properly positioned for 2021. \nRegister Here: https://us02web.zoom.us/meeting/register/tZAvduqgpzsjG9G_gpzULN0f0Yk1D0DjSqfZ
URL:https://www.midatlanticira.com/event/northern-virginia-strategies-group-2/
CATEGORIES:Strategy Groups
END:VEVENT
BEGIN:VEVENT
DTSTART;TZID=America/New_York:20201124T183000
DTEND;TZID=America/New_York:20201124T203000
DTSTAMP:20260422T221459
CREATED:20201030T023857Z
LAST-MODIFIED:20201030T023900Z
UID:321742-1606242600-1606249800@www.midatlanticira.com
SUMMARY:Baltimore Strategies Group
DESCRIPTION:Tax Update & Advanced Strategies\nIt’s time to round up 2020 with a Tax Update. There have been a myriad of individual\, business and retirement plan tax law changes during the year. Come learn whether you’ve made the proper moves and whether there is anything you need to do prior to year-end to be properly positioned for 2021. \nRegister Here: https://us02web.zoom.us/meeting/register/tZ0sc-CupzwtHte9vl7Iu3BIBKctM8vSyS-8
URL:https://www.midatlanticira.com/event/baltimore-strategies-group-2/
CATEGORIES:Strategy Groups
END:VEVENT
END:VCALENDAR