BEGIN:VCALENDAR
VERSION:2.0
PRODID:-//Midatlantic IRA - ECPv6.15.20//NONSGML v1.0//EN
CALSCALE:GREGORIAN
METHOD:PUBLISH
X-WR-CALNAME:Midatlantic IRA
X-ORIGINAL-URL:https://www.midatlanticira.com
X-WR-CALDESC:Events for Midatlantic IRA
REFRESH-INTERVAL;VALUE=DURATION:PT1H
X-Robots-Tag:noindex
X-PUBLISHED-TTL:PT1H
BEGIN:VTIMEZONE
TZID:America/New_York
BEGIN:DAYLIGHT
TZOFFSETFROM:-0500
TZOFFSETTO:-0400
TZNAME:EDT
DTSTART:20180311T070000
END:DAYLIGHT
BEGIN:STANDARD
TZOFFSETFROM:-0400
TZOFFSETTO:-0500
TZNAME:EST
DTSTART:20181104T060000
END:STANDARD
BEGIN:DAYLIGHT
TZOFFSETFROM:-0500
TZOFFSETTO:-0400
TZNAME:EDT
DTSTART:20190310T070000
END:DAYLIGHT
BEGIN:STANDARD
TZOFFSETFROM:-0400
TZOFFSETTO:-0500
TZNAME:EST
DTSTART:20191103T060000
END:STANDARD
BEGIN:DAYLIGHT
TZOFFSETFROM:-0500
TZOFFSETTO:-0400
TZNAME:EDT
DTSTART:20200308T070000
END:DAYLIGHT
BEGIN:STANDARD
TZOFFSETFROM:-0400
TZOFFSETTO:-0500
TZNAME:EST
DTSTART:20201101T060000
END:STANDARD
END:VTIMEZONE
BEGIN:VEVENT
DTSTART;TZID=America/New_York:20190219T183000
DTEND;TZID=America/New_York:20190219T210000
DTSTAMP:20260424T203601
CREATED:20190212T204746Z
LAST-MODIFIED:20190212T204805Z
UID:320226-1550601000-1550610000@www.midatlanticira.com
SUMMARY:Real Estate Investing with your Self-Directed IRA - Kansas City\, MO
DESCRIPTION:Come to our next Strategies IRA Meeting and let David Lang show you why self-directed IRAs might be a great source of investing capital. Whether you have a Self-Directed IRA already…you’re thinking about opening one… or you’re just curious… come and explore these potentially powerful strategies! \nOur next Meetup will be on February 19 and the top will be Real Estate Investing with your Self-Directed IRA. As most of you know\, we don’t charge for this Meetup\, but we do ask that you support our friends at Stone Canyon Pizza in Parkville. \nHere is the completed 2019 Dates & Topics:\nFebruary 19 – Real Estate Investing with Your Self-Directed IRA\nMarch 19 – Note Investing & Private Lending from SDIRA\nApril 23 – Power of Leverage\nMay 21 – Power User – TBA\nJune 18 – Rehabbing in SDIRA\nJuly 23 – Partnering with Your SDIRA\nAugust 20 – BYOD (Bring Your Own Deal)\nSeptember 17 – Self Directed Solo 401k (the I – k) & Other Business Retirement Options\nOctober 22 – Purchasing tax liens in your IRA\nNovember 19 – Tax Update & Advanced Strategies\nDecember – No Meetup — Happy Holidays!! \nRegister today.
URL:https://www.midatlanticira.com/event/real-estate-investing-with-your-self-directed-ira/
LOCATION:Stone Canyon Pizza\, 15 Main Street\, Parkville\, MO\, 64152\, United States
CATEGORIES:Strategy Groups
END:VEVENT
BEGIN:VEVENT
DTSTART;TZID=America/New_York:20190226T183000
DTEND;TZID=America/New_York:20190226T210000
DTSTAMP:20260424T203601
CREATED:20190212T204442Z
LAST-MODIFIED:20190212T204442Z
UID:320223-1551205800-1551214800@www.midatlanticira.com
SUMMARY:Real Estate Investing with Your Self-Directed IRA - Baltimore\, MD
DESCRIPTION:What’s your real estate investing strategy? Wholesaling? Rehabbing? Buy-and-hold? You can use a self-directed IRA with virtually all strategies to help you reap profits plus tax advantages. \nAt our next Strategies IRA meeting\, Jack Kiley of MidAtlantic IRA will take a close look at the many ways an IRA could enhance your real estate investing. \nWhether you have a self-directed IRA now or not yet\, join us and learn how this powerful financial tool could work for you. \nThis is the second in a series of monthly Strategies IRA Meetings for 2019. Jack has planned a step-by-step educational program for you throughout the year. So set your calendar now for the last Tuesday of every month By the end of the year you’ll be well educated — and you could be far wealthier! \nMidAtlantic IRA (https://www.midatlanticira.com/) and The Baltimore REIA (http://www.baltimorereia.com/strategies-ira-february/) invite you to this powerful group of networkers. Don’t miss a great evening of networking. Remember we are not selling at this Meetup\, no books\, no boot-camps\, no CD’s. This is like minded individuals who want to network to build their real estate business. \nThere is no charge for this meeting if you are a member of the Baltimore REIA\, otherwise there is $10:00 charge at the door\, cash only please. You need to buy your own meal. Separate checks are available from the restaurant. \nYour net worth is a reflection of your network. \nRegister today.
URL:https://www.midatlanticira.com/event/real-estate-investing-with-your-self-directed-ira-baltimore-md/
LOCATION:Ocean Pride Restaurant & Carry out\, 1534 York Road\, Lutherville\, MD\, 21093\, United States
CATEGORIES:Strategy Groups
END:VEVENT
END:VCALENDAR