BEGIN:VCALENDAR
VERSION:2.0
PRODID:-//Midatlantic IRA - ECPv6.15.20//NONSGML v1.0//EN
CALSCALE:GREGORIAN
METHOD:PUBLISH
X-ORIGINAL-URL:https://www.midatlanticira.com
X-WR-CALDESC:Events for Midatlantic IRA
REFRESH-INTERVAL;VALUE=DURATION:PT1H
X-Robots-Tag:noindex
X-PUBLISHED-TTL:PT1H
BEGIN:VTIMEZONE
TZID:America/New_York
BEGIN:DAYLIGHT
TZOFFSETFROM:-0500
TZOFFSETTO:-0400
TZNAME:EDT
DTSTART:20180311T070000
END:DAYLIGHT
BEGIN:STANDARD
TZOFFSETFROM:-0400
TZOFFSETTO:-0500
TZNAME:EST
DTSTART:20181104T060000
END:STANDARD
BEGIN:DAYLIGHT
TZOFFSETFROM:-0500
TZOFFSETTO:-0400
TZNAME:EDT
DTSTART:20190310T070000
END:DAYLIGHT
BEGIN:STANDARD
TZOFFSETFROM:-0400
TZOFFSETTO:-0500
TZNAME:EST
DTSTART:20191103T060000
END:STANDARD
BEGIN:DAYLIGHT
TZOFFSETFROM:-0500
TZOFFSETTO:-0400
TZNAME:EDT
DTSTART:20200308T070000
END:DAYLIGHT
BEGIN:STANDARD
TZOFFSETFROM:-0400
TZOFFSETTO:-0500
TZNAME:EST
DTSTART:20201101T060000
END:STANDARD
END:VTIMEZONE
BEGIN:VEVENT
DTSTART;TZID=America/New_York:20190129T180000
DTEND;TZID=America/New_York:20190129T210000
DTSTAMP:20260424T221643
CREATED:20181206T211856Z
LAST-MODIFIED:20190118T235941Z
UID:319980-1548784800-1548795600@www.midatlanticira.com
SUMMARY:Introduction to Self-Directed IRA's - Baltimore\, MD
DESCRIPTION:If you are still sitting on the launching pad\, fueled and ready to go but……your countdown has been halted\, we invite you out Tuesday night to get your rocket lit. This meeting is about action right now. Do not wait any longer. Come hear about the things you can do to make your wealth building dreams come true. \nMidAtlantic IRA (https://www.midatlanticira.com/) and The Baltimore REIA (http://www.baltimorereia.com) invite you to this powerful group of networkers. Don’t miss a great evening of networking. Remember we are not selling at this Meetup\, no books\, no boot-camps\, no CD’s. This is like minded individuals who want to network to build their real estate business. \nThis is the first in a series of monthly Strategies IRA Meetings for 2019.\nJack has planned a step-by-step educational program for you\, starting with this introductory meeting. So set your calendar now for the last Tuesday of every month. By the end of the year you’ll be well educated — and you could be far wealthier! \nAt our next Strategies IRA meeting\, Jack Kiley of MidAtlantic IRA will get back to basics with you. You’ll learn exactly what a self-directed IRA is and what the “ground rules” are\, so you can stay in compliance while you enjoy the benefits. \nEVERYONE PAYS FOR HIS OR HER OWN MEAL. The restaurant will give you a separate check for your meal. Please plan to order food so we can continue to meet at this venue. \nADMISSION TO THE MEETING IS FREE FOR BALTIMORE REIA MEMBERS. Non-members pay $19 to help support our meeting and marketing costs. You can pay at the door \nYour net worth is a reflection of your network. \nRegister today. \nOcean Pride Restaurant & Carry-Out\n1534 York Road\nLutherville-Timonium\, MD \n6:00pm – Networking begins\n7:00pm – Meetup start time \nBaltimore REIA Members: FREE\nNon-Members: $19
URL:https://www.midatlanticira.com/event/baltimore-real-estate-meetup/
LOCATION:Ocean Pride Restaurant & Carry out\, 1534 York Road\, Lutherville\, MD\, 21093\, United States
CATEGORIES:Strategy Groups
END:VEVENT
BEGIN:VEVENT
DTSTART;TZID=America/New_York:20190129T183000
DTEND;TZID=America/New_York:20190129T213000
DTSTAMP:20260424T221643
CREATED:20190119T000449Z
LAST-MODIFIED:20190119T000450Z
UID:320183-1548786600-1548797400@www.midatlanticira.com
SUMMARY:Introduction to Self-Directed IRA's - Kansas City\, MO
DESCRIPTION:If you are still sitting on the launching pad\, fueled and ready to go but……your countdown has been halted\, we invite you out Tuesday night to get your rocket lit. This meeting is about action right now. Do not wait any longer. Come hear about the things you can do to make your wealth building dreams come true. \nThis is the first in a series of monthly Strategies IRA Meetings for 2019.\nDavid Lang has planned a step-by-step educational program for you\, starting with this introductory meeting. So set your calendar now for the last Tuesday of every month. By the end of the year you’ll be well educated — and you could be far wealthier! \nIn our next Strategies IRA Meeting\, David will show you why self-directed IRAs might be a great source of investing capital. Whether you have a Self-Directed IRA already…you’re thinking about opening one… or you’re just curious… come and explore these potentially powerful strategies! \nThe first meeting will be on January 29 and it will be a refresher night for some as we do an Introduction to Self-Directed IRAs. As most of you know\, we don’t charge for this Meetup\, but we do ask that you support our friends at Stone Canyon Pizza in Parkville. \nYour net worth is a reflection of your network. \nRegister today. \nStone Canyon Pizza\n15 Main Street\nParkville\, MO 64152 \n 
URL:https://www.midatlanticira.com/event/introduction-to-self-directed-iras-kansas-city-mo/
LOCATION:Stone Canyon Pizza\, 15 Main Street\, Parkville\, MO\, 64152\, United States
CATEGORIES:Strategy Groups
END:VEVENT
END:VCALENDAR